BEGIN:VCALENDAR
VERSION:2.0
PRODID:-//ChamberMaster//Event Calendar 2.0//EN
METHOD:PUBLISH
X-PUBLISHED-TTL:P3D
REFRESH-INTERVAL:P3D
CALSCALE:GREGORIAN
BEGIN:VEVENT
DTSTART:20200814T153000Z
DTEND:20200814T163000Z
X-MICROSOFT-CDO-ALLDAYEVENT:FALSE
SUMMARY:Q&A Virtual Meeting with SBA Disaster Loan Expert
DESCRIPTION:Business owners\, please join us for virtual office hours and Q&A with the SBA and SBDC. We will discuss disaster assistance available for businesses affected by the recent flooding.\n\n\n\nPresenters:\n\nKathy Cook\n\nPublic Affairs Specialist\n\nU.S. Small Business Administration\n\n\n\nBeth Roszatycki\n\nRegional Director\n\nGreat Lakes Bay Region Michigan Small Business Development Center\n\n\n\nTony Fox\n\nRegional Director\n\nMid Michigan Region Small Business Development Center
X-ALT-DESC;FMTTYPE=text/html:Business owners\, please join us for virtual office hours and Q&amp\;A with the SBA and SBDC. We will discuss disaster assistance available for businesses affected by the recent flooding.<br />\n<br />\nPresenters:<br />\nKathy Cook<br />\nPublic Affairs Specialist<br />\nU.S. Small Business Administration<br />\n<br />\nBeth Roszatycki<br />\nRegional Director<br />\nGreat Lakes Bay Region Michigan Small Business Development Center<br />\n<br />\nTony Fox<br />\nRegional Director<br />\nMid Michigan Region Small Business Development Center
LOCATION:Virtual Meeting by SBA
UID:e.3222.1921
SEQUENCE:3
DTSTAMP:20260422T052022Z
URL:https://www.apacc.net/events/details/q-a-virtual-meeting-with-sba-disaster-loan-expert-1921
END:VEVENT

END:VCALENDAR
