BEGIN:VCALENDAR
VERSION:2.0
PRODID:-//ChamberMaster//Event Calendar 2.0//EN
METHOD:PUBLISH
X-PUBLISHED-TTL:P3D
REFRESH-INTERVAL:P3D
CALSCALE:GREGORIAN
BEGIN:VEVENT
DTSTART:20250410T180000Z
DTEND:20250410T190000Z
X-MICROSOFT-CDO-ALLDAYEVENT:FALSE
SUMMARY:PNC Bank: “Purple Haze”: Tariffs\, Markets and the Path Forward
DESCRIPTION:Join us for an in-depth webinar\, "Purple Haze: Tariffs\, Markets\, and the Path Forward\," where our panel of market and political leaders will break down the latest developments in global trade\, explore the impact of tariffs on key industries\, and offer insights into what investors and businesses can expect next.\n\n\n\nWhat we'll cover:\n\n	The latest on U.S. China trade dynamics\n	How tariffs are reshaping supply chains and pricing\n	Market reactions and long-term economic implications\n	Strategies to manage risk and seize emerging opportunities\n\nView Flyer here.
X-ALT-DESC;FMTTYPE=text/html:<br />\nJoin us for an in-depth webinar\, &quot\;Purple Haze: Tariffs\, Markets\, and the Path Forward\,&quot\; where our panel of market and political leaders will break down the latest developments in global trade\, explore the impact of tariffs on key industries\, and offer insights into what investors and businesses can expect next.<br />\n<br />\nWhat we&rsquo\;ll cover:\n<ul>\n	<li>The latest on U.S.&ndash\;China trade dynamics</li>\n	<li>How tariffs are reshaping supply chains and pricing</li>\n	<li>Market reactions and long-term economic implications</li>\n	<li>Strategies to manage risk and seize emerging opportunities</li>\n</ul>\n<a href="https://chambermaster.blob.core.windows.net/userfiles/UserFiles/chambers/3222/File/PNCEvent_Flyer_CIB_R.pdf" target="_blank"><strong>View Flyer here.</strong></a>
LOCATION:Webinar
UID:e.3222.2973
SEQUENCE:3
DTSTAMP:20260425T112335Z
URL:https://www.apacc.net/events/details/pnc-bank-purple-haze-tariffs-markets-and-the-path-forward-2973
END:VEVENT

END:VCALENDAR
