BEGIN:VCALENDAR
VERSION:2.0
PRODID:-//ChamberMaster//Event Calendar 2.0//EN
METHOD:PUBLISH
X-PUBLISHED-TTL:P3D
REFRESH-INTERVAL:P3D
CALSCALE:GREGORIAN
BEGIN:VEVENT
DTSTART:20200624T150000Z
DTEND:20200624T160000Z
X-MICROSOFT-CDO-ALLDAYEVENT:FALSE
SUMMARY:Pivoting Your Business to Thrive in a New Environment
DESCRIPTION:Coronavirus-Focused Virtual Business Workshops Among Several Offered by Oakland County Small Business Team\n\n\n\nBusiness owners and entrepreneurs who may have had their operations or aspirations interrupted by the coronavirus pandemic have a chance to get back on track with the help of expert business counselors from Oakland County's small business team.\n\n\n\nMost often we talk about a business pivoting during the startup phase\, but when something as drastic as COVID-19 strikes\, even established businesses need to think about their business model. This workshop will discuss the three areas of your business that hold clues to a successful pivot.\n\n\n\nThis workshop is designed to help existing and startup businesses.
X-ALT-DESC;FMTTYPE=text/html:Coronavirus-Focused Virtual Business Workshops Among Several Offered by Oakland County Small Business Team<br />\n<br />\nBusiness owners and entrepreneurs who may have had their operations or aspirations interrupted by the coronavirus pandemic have a chance to get back on track with the help of expert business counselors from Oakland County&rsquo\;s small business team.<br />\n<br />\nMost often we talk about a business pivoting during the startup phase\, but when something as drastic as COVID-19 strikes\, even established businesses need to think about their business model. This workshop will discuss the three areas of your business that hold clues to a successful pivot.<br />\n<br />\nThis workshop is designed to help existing and startup businesses.
LOCATION:Webinar Offered by Oakland County Small Business Team
UID:e.3222.1842
SEQUENCE:3
DTSTAMP:20260424T135936Z
URL:https://www.apacc.net/events/details/pivoting-your-business-to-thrive-in-a-new-environment-1842
END:VEVENT

END:VCALENDAR
