BEGIN:VCALENDAR
VERSION:2.0
PRODID:-//ChamberMaster//Event Calendar 2.0//EN
METHOD:PUBLISH
X-PUBLISHED-TTL:P3D
REFRESH-INTERVAL:P3D
CALSCALE:GREGORIAN
BEGIN:VEVENT
DTSTART:20210326T200000Z
DTEND:20210326T213000Z
X-MICROSOFT-CDO-ALLDAYEVENT:FALSE
SUMMARY:Past and Present: Anti-Asian Sentiment & Racism
DESCRIPTION:What We Can Do About It Now\n\n\n\n\n\nThe event will explore aspects of racism\, discriminatory policies against Asian Americans\, current Anti-Asian sentiment\, and violence during the COVID-19 pandemic.\n\n\n\n\n\nSpeakers\n\n\n\nRoland Hwang\n\nLecturer\, Asian/Pacific Islander American Studies\, Department of American Culture\, U of M & MAPAAAC Commissioner Alumni\n\n\n\nMelissa May Borja Ph.D.\n\nAssistant Professor\, Department of American Culture\, U of M\n\n\n\nSunita Doddamani\n\nMichigan Assistant Attorney General\, Hate Crimes Unit\n\n\n\nLori Vinson\n\nMichigan Department of Civil Rights\n\n\n\nTo register\, please click here.
X-ALT-DESC;FMTTYPE=text/html:<br />\n<u>What We Can Do About It Now</u><br />\n<br />\n<br />\nThe event will explore aspects of racism\, discriminatory policies against Asian Americans\, current Anti-Asian sentiment\, and violence during the COVID-19 pandemic.<br />\n<br />\n<br />\n<u><strong>Speakers</strong></u><br />\n<br />\n<strong>Roland Hwang</strong><br />\nLecturer\, Asian/Pacific Islander American Studies\, Department of American Culture\, U of M &amp\; MAPAAAC Commissioner Alumni<br />\n<br />\n<strong>Melissa May Borja Ph.D.</strong><br />\nAssistant Professor\, Department of American Culture\, U of M<br />\n<br />\n<strong>Sunita Doddamani</strong><br />\nMichigan Assistant Attorney General\, Hate Crimes Unit<br />\n<br />\n<strong>Lori Vinson</strong><br />\nMichigan Department of Civil Rights<br />\n<br />\nTo register\, please click <a href="https://us02web.zoom.us/meeting/register/tZItd-2tqzItEtUsomP-YExC9cfKrPRTTuM1" target="_blank">here</a>.
LOCATION:Virtual
UID:e.3222.2085
SEQUENCE:3
DTSTAMP:20260423T222845Z
URL:https://www.apacc.net/events/details/past-and-present-anti-asian-sentiment-racism-2085
END:VEVENT

END:VCALENDAR
