BEGIN:VCALENDAR
VERSION:2.0
PRODID:-//ChamberMaster//Event Calendar 2.0//EN
METHOD:PUBLISH
X-PUBLISHED-TTL:P3D
REFRESH-INTERVAL:P3D
CALSCALE:GREGORIAN
BEGIN:VEVENT
DTSTART;VALUE=DATE:20200616
DTEND;VALUE=DATE:20200618
TRANSP:TRANSPARENT
X-MICROSOFT-CDO-ALLDAYEVENT:TRUE
SUMMARY:OPTION ONE: WHAT USMCA MEANS FOR BUSINESS
DESCRIPTION:This virtual/live training takes place over the course of two days to provide you with the same amount of content that attendees would receive from our in-person sessions. Registrants will be sent a link to the sessions 24 hours before the training begins. To allow for greater interaction between attendees and the presenter\, space is limited for these sessions. Please register for only one USMCA virtual training (What USMCA Means for Business or USMCA Impact on the Auto Industry). \n\n\n\nThe new United States\, Mexico\, Canada Free Trade Agreement (USMCA) will replace the North American Free Trade Agreement (NAFTA) which took effect in 1994. The new agreement includes many updated provisions and clauses. Learn the basics of the new USMCA and how it will affect your company.\n\n\n\nTopics covered:\n\n\n\nHow to certify products and create a new free-form certification of origin\n\nUSMCA Product-Specific Rules of Origin\n\nUSMCA   new industry & sector special rules\n\n\n\nSponsored by: Vandevert Trade Law
X-ALT-DESC;FMTTYPE=text/html:This virtual/live training takes place over the course of two days to provide you with the same amount of content that attendees would receive from our in-person sessions. Registrants will be sent a link to the sessions 24 hours before the training begins. To allow for greater interaction between attendees and the presenter\, space is limited for these sessions. Please register for only one USMCA virtual training&nbsp\;(What USMCA Means for Business or USMCA Impact on the Auto Industry).&nbsp\;<br />\n<br />\nThe new United States\, Mexico\, Canada Free Trade Agreement (USMCA) will replace the North American Free Trade Agreement (NAFTA) which took effect in 1994. The new agreement includes many updated provisions and clauses. Learn the basics of the new USMCA and how it will affect your company.<br />\n<br />\nTopics covered:<br />\n<br />\nHow to certify products and create a new free-form certification of origin<br />\nUSMCA Product-Specific Rules of Origin<br />\nUSMCA &ndash\; new industry &amp\; sector special rules<br />\n<br />\nSponsored by: <a href="https://www.vandeverttradelaw.com/" target="_blank">Vandevert Trade Law</a>
LOCATION:Virtual Livestream by Grand Valley State University Van Andel Global Trade Center
UID:e.3222.1787
SEQUENCE:3
DTSTAMP:20260424T140028Z
URL:https://www.apacc.net/events/details/option-one-what-usmca-means-for-business-1787
END:VEVENT

END:VCALENDAR
