BEGIN:VCALENDAR
VERSION:2.0
PRODID:-//ChamberMaster//Event Calendar 2.0//EN
METHOD:PUBLISH
X-PUBLISHED-TTL:P3D
REFRESH-INTERVAL:P3D
CALSCALE:GREGORIAN
BEGIN:VEVENT
DTSTART:20200330T180000Z
DTEND:20200330T190000Z
X-MICROSOFT-CDO-ALLDAYEVENT:FALSE
SUMMARY:Online Conference in Chinese How to Apply for SBA Economic Injury Disaster Loan and other Assistance
DESCRIPTION:Online Conference in Chinese\n\nHow to apply for SBA Economic Injury Disaster Loan and Other Assistance for Small Businesses and Non-profits\n\nThe U.S. Small Business Administration (SBA) is offering low-interest\, long-term disaster loans for working capital to the small businesses\, private non-profit organizations in designated states and territories suffering substantial economic injury as a result of the Coronavirus (COVID-19).
X-ALT-DESC;FMTTYPE=text/html:&#20013\;&#25991\;&#32178\;&#19978\;&#35498\;&#26126\;&#26371\;<br />\n&#22914\;&#20309\;&#30003\;&#35531\;&#32879\;&#37030\;&#32147\;&#28639\;&#21463\;&#25613\;&#28797\;&#38627\;&#36024\;&#27454\;&#21450\;&#20854\;&#20182\;&#26032\;&#21332\;&#21161\;&#26041\;&#26696\;<br />\n&#23567\;&#20225\;&#26989\;&#21450\;&#38750\;&#29151\;&#21033\;&#32068\;&#32340\;<br />\nOnline Conference in Chinese<br />\nHow to apply for SBA Economic Injury Disaster Loan and Other Assistance for Small Businesses and Non-profits<br />\nThe U.S. Small Business Administration (SBA) is offering low-interest\, long-term disaster loans for working capital to the small businesses\, private non-profit organizations in designated states and territories suffering substantial economic injury as a result of the Coronavirus (COVID-19).<br />\n&#32879\;&#37030\;&#23567\;&#20225\;&#26989\;&#37096\;&#28858\;&#24171\;&#21161\;&#23567\;&#20225\;&#26989\;&#21450\;&#38750\;&#29151\;&#21033\;&#32068\;&#32340\;&#65292\;&#29694\;&#27491\;&#25552\;&#20379\;&#20302\;&#21033\;&#24687\;&#65292\;&#38263\;&#26399\;&#20767\;&#36996\;&#30340\;&#32879\;&#37030\;&#32147\;&#28639\;&#21463\;&#25613\;&#28797\;&#38627\;&#36024\;&#27454\;&#65292\;&#32102\;&#22240\;&#28858\;&#26032\;&#20896\;&#32954\;&#28814\;&#32780\;&#21463\;&#32147\;&#28639\;&#25613\;&#23475\;&#30340\;&#22320\;&#21312\;&#12290\;
LOCATION:Register at: https://disasterloansmarch30ma.eventbrite.com
UID:e.3222.1637
SEQUENCE:3
DTSTAMP:20260423T222154Z
URL:https://www.apacc.net/events/details/online-conference-in-chinese-how-to-apply-for-sba-economic-injury-disaster-loan-and-other-assistance-1637
END:VEVENT

END:VCALENDAR
