BEGIN:VCALENDAR
VERSION:2.0
PRODID:-//ChamberMaster//Event Calendar 2.0//EN
METHOD:PUBLISH
X-PUBLISHED-TTL:P3D
REFRESH-INTERVAL:P3D
CALSCALE:GREGORIAN
BEGIN:VEVENT
DTSTART:20200801T150000Z
DTEND:20200801T160000Z
X-MICROSOFT-CDO-ALLDAYEVENT:FALSE
SUMMARY:OM @ Home
DESCRIPTION:OM @ HOME Led by DSO Librarian and certified yoga instructor Ethan Allen. FACEBOOK LIVE WEBCAST Saturday\, August 1st at 11:00 AM ET Join us Saturday\, August 1st at 11:00 AM\, on Facebook Live for our Om @ Home yoga session led by DSO Librarian and certified yoga instructor Ethan Allen! Open to all skill levels\, this session will feature DSO musicians performing a beautiful soundtrack for your morning practice. Just look for the Facebook Live event to show up on the DSO's Facebook page Saturday\, August 1st\, at 11:00 AM ET\, and click on the event to join. In times like these\, music and yoga are unifying\, calming\, and courageous. While we can't wait to welcome you back to The Cube for our Om @ The Max yoga series\, for now\, we're thrilled to engage and uplift you from the comfort of home with FREE access to the Om @ Home experience.
X-ALT-DESC;FMTTYPE=text/html:OM @ HOME Led by DSO Librarian and certified yoga instructor Ethan Allen. <a href="https://www.facebook.com/detroitsymphony/" target="_blank">FACEBOOK LIVE WEBCAST </a>Saturday\, August 1st at 11:00 AM ET Join us Saturday\, August 1st at 11:00 AM\, on Facebook Live for our Om @ Home yoga session led by DSO Librarian and certified yoga instructor Ethan Allen! Open to all skill levels\, this session will feature DSO musicians performing a beautiful soundtrack for your morning practice. Just look for the Facebook Live event to show up on the DSO&#39\;s Facebook page Saturday\, August 1st\, at 11:00 AM ET\, and click on the event to join. In times like these\, music and yoga are unifying\, calming\, and courageous. While we can&#39\;t wait to welcome you back to The Cube for our Om @ The Max yoga series\, for now\, we&#39\;re thrilled to engage and uplift you from the comfort of home with FREE access to the Om @ Home experience.
LOCATION:Facebook Live by DSO
UID:e.3222.1900
SEQUENCE:3
DTSTAMP:20260424T105747Z
URL:https://www.apacc.net/events/details/om-home-08-01-2020-1900
END:VEVENT

END:VCALENDAR
