BEGIN:VCALENDAR
VERSION:2.0
PRODID:-//ChamberMaster//Event Calendar 2.0//EN
METHOD:PUBLISH
X-PUBLISHED-TTL:P3D
REFRESH-INTERVAL:P3D
CALSCALE:GREGORIAN
BEGIN:VEVENT
DTSTART:20250811T130000Z
DTEND:20250811T200000Z
X-MICROSOFT-CDO-ALLDAYEVENT:FALSE
SUMMARY:Oakland Thrive’s 3rd Annual Oakland Thrive Golf Scramble
DESCRIPTION:The August 1st deadline to get your tickets is coming up fast. Single golfer tickets are $300\, and foursome tickets are $1\,200. \n\n\n\nYour support means empowering local Oakland County businesses with technical assistance\, 1:1 support\, workshops\, cohorts\, and more.\n\nLearn more about this annual event.
X-ALT-DESC;FMTTYPE=text/html:<p><br />\nThe August 1st deadline to get your tickets is coming up fast. Single golfer tickets are $300\, and foursome tickets are $1\,200.&nbsp\;<br />\n<br />\nYour support means empowering local Oakland County businesses with technical assistance\, 1:1 support\, workshops\, cohorts\, and more.</p>\n\n<p><strong><a href="https://oaklandthrive.org/coulter-cup/?mc_cid=e82f1a52ed&amp\;mc_eid=f0e16a71a4">Learn more</a> </strong>about this annual event.</p>\n
LOCATION:
UID:e.3222.3010
SEQUENCE:3
DTSTAMP:20260425T204435Z
URL:https://www.apacc.net/events/details/oakland-thrive-s-3rd-annual-oakland-thrive-golf-scramble-3010
END:VEVENT

END:VCALENDAR
