BEGIN:VCALENDAR
VERSION:2.0
PRODID:-//ChamberMaster//Event Calendar 2.0//EN
METHOD:PUBLISH
X-PUBLISHED-TTL:P3D
REFRESH-INTERVAL:P3D
CALSCALE:GREGORIAN
BEGIN:VEVENT
DTSTART:20200312T220000Z
DTEND:20200313T020000Z
X-MICROSOFT-CDO-ALLDAYEVENT:FALSE
SUMMARY:Oakland Culinary Studies Institute Tribute to the Rat Pack
DESCRIPTION:Tribute to the Rat Pack \n\nFeaturing The OCC Community Jazz Band\n\n\n\nBaby for this soiree\, you must choose if you will be enjoying tonight's events as a lady  or a tramp. So string your pearls like Audrey or perfect your pout like Marilyn and join us for a class act at this evening affair. Be entertained by the OCC Community Jazz Band with a captivating blend of swing\, swagger and antics\, this show is an energizing spectacle that delivers Old School Cool like never before. Saddle up to barkeep to fill you up with signature cocktails and complementary appetizers for cocktail hour\, but don't forget to save yourself room for five glorious courses. Do not miss this uproarious extravaganza of 18-karat fun!\n\n\n\nOCC's award-winning Culinary Studies Institute hosts the last themed dinner of the 2019-2020 season. Under the watchful eyes of chef instructors\, CSI students research\, plan\, prepare and serve a five-course meal including wines specially selected to complement the meal. The evening's mood is set at a cocktail hour before the dinner with specialty hors d'oeuvres passed for your sampling\, and a cash bar offers beverages concocted to reflect the evening's theme as well as a selection of wines and beer.
X-ALT-DESC;FMTTYPE=text/html:Tribute to the Rat Pack&nbsp\;<br />\nFeaturing The OCC Community Jazz Band<br />\n<br />\nBaby for this soiree\, you must choose if you will be enjoying tonight&rsquo\;s events as a lady&hellip\; or a tramp. So string your pearls like Audrey or perfect your pout like Marilyn and join us for a class act at this evening affair. Be entertained by the OCC Community Jazz Band with a captivating blend of swing\, swagger and antics\, this show is an energizing spectacle that delivers Old School Cool like never before. Saddle up to barkeep to fill you up with signature cocktails and complementary appetizers for cocktail hour\, but don&rsquo\;t forget to save yourself room for five glorious courses. Do not miss this uproarious extravaganza of 18-karat fun!<br />\n<br />\nOCC&#39\;s award-winning Culinary Studies Institute hosts the last themed dinner of the 2019-2020 season. Under the watchful eyes of chef instructors\, CSI students research\, plan\, prepare and serve a five-course meal including wines specially selected to complement the meal. The evening&#39\;s mood is set at a cocktail hour before the dinner with specialty hors d&#39\;oeuvres passed for your sampling\, and a cash bar offers beverages concocted to reflect the evening&#39\;s theme as well as a selection of wines and beer.&nbsp\;
LOCATION:Oakland Community College Orchard Ridge Campus J Building - Tirrell Hall 27055 Orchard Lake Rd Farmington Hills\, MI 48334-4579 View a Map
UID:e.3222.504
SEQUENCE:3
DTSTAMP:20260423T222027Z
URL:https://www.apacc.net/events/details/oakland-culinary-studies-institute-tribute-to-the-rat-pack-504
END:VEVENT

END:VCALENDAR
