BEGIN:VCALENDAR
VERSION:2.0
PRODID:-//ChamberMaster//Event Calendar 2.0//EN
METHOD:PUBLISH
X-PUBLISHED-TTL:P3D
REFRESH-INTERVAL:P3D
CALSCALE:GREGORIAN
BEGIN:VEVENT
DTSTART:20200409T151500Z
DTEND:20200409T170000Z
X-MICROSOFT-CDO-ALLDAYEVENT:FALSE
SUMMARY:Oakland Culinary Studies Institute Kentucky Derby Buffet
DESCRIPTION:Place your bets and be a winner Fillies\, Colts\, and Foals for this across the board grand buffet event that's sure to be a crowd favorite. The odds are in your favor with our trifecta of bluegrass inspired appetizers\, entr es\, and southern dessert delights. Tame your thirst and amble up to our refreshment station including sweet tea and lemonade.
X-ALT-DESC;FMTTYPE=text/html:<br />\nPlace your bets and be a winner Fillies\, Colts\, and Foals for this across the board grand buffet event that&#39\;s sure to be a crowd favorite. The odds are in your favor with our trifecta of bluegrass inspired appetizers\, entr&eacute\;es\, and southern dessert delights. Tame your thirst and amble up to our refreshment station including sweet tea and lemonade.
LOCATION:Oakland Community College Orchard Ridge Campus J Building - Tirrell Hall 27055 Orchard Lake Rd Farmington Hills\, MI 48334-4579 View a Map
UID:e.3222.501
SEQUENCE:3
DTSTAMP:20260422T112952Z
URL:https://www.apacc.net/events/details/oakland-culinary-studies-institute-kentucky-derby-buffet-501
END:VEVENT

END:VCALENDAR
