BEGIN:VCALENDAR
VERSION:2.0
PRODID:-//ChamberMaster//Event Calendar 2.0//EN
METHOD:PUBLISH
X-PUBLISHED-TTL:P3D
REFRESH-INTERVAL:P3D
CALSCALE:GREGORIAN
BEGIN:VEVENT
DTSTART:20200812T180000Z
DTEND:20200812T190000Z
X-MICROSOFT-CDO-ALLDAYEVENT:FALSE
SUMMARY:NVBDC Presents Expanding Global Opportunities for Veteran-Owned Businesses
DESCRIPTION:With 95% of global consumers holding 75% of global purchasing power\, it makes smart business sense to proactively grow your business in international markets.\n\n\n\nPlease join the National Veteran Business Development Council (NVBDC)\, the International Trade Administration/U.S. Commercial Service and the Export-Import Bank of the United States (EXIM) for a brief session about growing your international sales.\n\n\n\nKey discussions will include:\n\n	Improving cash flow and minimizing commercial and political risks of doing business globally.\n	Trade counseling\, business matchmaking services and valuable market research.\n	A testimonial from a Veteran-Owned Business
X-ALT-DESC;FMTTYPE=text/html:With 95% of global consumers holding 75% of global purchasing power\, it makes smart business sense to proactively grow your business in international markets.<br />\n<br />\nPlease join the National Veteran Business Development Council (NVBDC)\, the International Trade Administration/U.S. Commercial Service and the Export-Import Bank of the United States (EXIM) for a brief session about growing your international sales.<br />\n<br />\nKey discussions will include:\n<ul>\n	<li>Improving cash flow and minimizing commercial and political risks of doing business globally.</li>\n	<li>Trade counseling\, business matchmaking services and valuable market research.</li>\n	<li>A testimonial from a Veteran-Owned Business</li>\n</ul>\n
LOCATION:Webinar
UID:e.3222.1912
SEQUENCE:3
DTSTAMP:20260422T052104Z
URL:https://www.apacc.net/events/details/nvbdc-presents-expanding-global-opportunities-for-veteran-owned-businesses-1912
END:VEVENT

END:VCALENDAR
