BEGIN:VCALENDAR
VERSION:2.0
PRODID:-//ChamberMaster//Event Calendar 2.0//EN
METHOD:PUBLISH
X-PUBLISHED-TTL:P3D
REFRESH-INTERVAL:P3D
CALSCALE:GREGORIAN
BEGIN:VEVENT
DTSTART:20200811T160000Z
DTEND:20200811T170000Z
X-MICROSOFT-CDO-ALLDAYEVENT:FALSE
SUMMARY:Non-Compete Developments to Watch for in 2020
DESCRIPTION:Non-compete\, non-solicitation\, and confidentiality agreements can help protect your business's assets\, and its relationships with customers and other employees\, when key employees depart.  In this webinar\, we will discuss when and how to use such agreements to protect your business\, when and how to obtain enforcement in the courts\, as well as changes (and proposed changes) to the law governing these agreements.
X-ALT-DESC;FMTTYPE=text/html:Non-compete\, non-solicitation\, and confidentiality agreements can help protect your business&rsquo\;s assets\, and its relationships with customers and other employees\, when key employees depart.&nbsp\; In this webinar\, we will discuss when and how to use such agreements to protect your business\, when and how to obtain enforcement in the courts\, as well as changes (and proposed changes) to the law governing these agreements.&nbsp\;
LOCATION:Webinar by Warner Norcross + Judd
UID:e.3222.1915
SEQUENCE:3
DTSTAMP:20260421T161538Z
URL:https://www.apacc.net/events/details/non-compete-developments-to-watch-for-in-2020-1915
END:VEVENT

END:VCALENDAR
