BEGIN:VCALENDAR
VERSION:2.0
PRODID:-//ChamberMaster//Event Calendar 2.0//EN
METHOD:PUBLISH
X-PUBLISHED-TTL:P3D
REFRESH-INTERVAL:P3D
CALSCALE:GREGORIAN
BEGIN:VEVENT
DTSTART:20240111T213000Z
DTEND:20240111T233000Z
X-MICROSOFT-CDO-ALLDAYEVENT:FALSE
SUMMARY:Neighborly Networking 2024
DESCRIPTION:Start 2024 New Year's resolution to expand your network by joining us for Neighborly Networking. APACC has partnered with the Livonia Chamber of Commerce\, Novi Chamber of Commerce\, and the Greater Farmington Area Chamber to connect our members and expand your network.\n\n\n\n Appetizers provided. Cash bar.
X-ALT-DESC;FMTTYPE=text/html:<br />\nStart 2024 New Year&#39\;s resolution to expand your network by joining us for Neighborly Networking. APACC has partnered with the Livonia Chamber of Commerce\, Novi Chamber of Commerce\, and the Greater Farmington Area Chamber to connect our members and expand your network.<br />\n<br />\n&#8203\;Appetizers provided. Cash bar.
LOCATION:Sheraton Detroit Novi Hotel
UID:e.3222.2783
SEQUENCE:3
DTSTAMP:20260424T003632Z
URL:https://www.apacc.net/events/details/neighborly-networking-2024-2783
END:VEVENT

END:VCALENDAR
