BEGIN:VCALENDAR
VERSION:2.0
PRODID:-//ChamberMaster//Event Calendar 2.0//EN
METHOD:PUBLISH
X-PUBLISHED-TTL:P3D
REFRESH-INTERVAL:P3D
CALSCALE:GREGORIAN
BEGIN:VEVENT
DTSTART;VALUE=DATE:20180110
DTEND;VALUE=DATE:20180111
TRANSP:TRANSPARENT
X-MICROSOFT-CDO-ALLDAYEVENT:TRUE
SUMMARY:Neighborly Networking
DESCRIPTION:Neighborly Networking
X-ALT-DESC;FMTTYPE=text/html:Neighborly Networking
LOCATION:Novi Sheraton\, Novi\, MI
UID:e.3222.1
SEQUENCE:3
DTSTAMP:20260419T144846Z
URL:https://www.apacc.net/events/details/neighborly-networking-1
END:VEVENT

END:VCALENDAR
