BEGIN:VCALENDAR
VERSION:2.0
PRODID:-//ChamberMaster//Event Calendar 2.0//EN
METHOD:PUBLISH
X-PUBLISHED-TTL:P3D
REFRESH-INTERVAL:P3D
CALSCALE:GREGORIAN
BEGIN:VEVENT
DTSTART:20200508T143000Z
DTEND:20200508T153000Z
X-MICROSOFT-CDO-ALLDAYEVENT:FALSE
SUMMARY:NAWBO Presents Leading in Disruptive Times
DESCRIPTION:This session focuses on the realities of leading and living in this time of disruptive change and the implications for humans. Participants will be introduced to a human-centered change approach and how they can create the conditions for human flourishing in the midst of disruption. Participants will engage in participative learning through conversation and collective large group sharing. They will learn and practice tools that can be applied immediately following the session in life and work.\n\n\n\nMain takeaways include:\n\n	Learn how to lead during times of disruptive change with a human-centered focus\n	Be introduced to methods\, models and tools of human-centered change\n	Learn and practice human-centered change tools\n	Set intentions for how to practice what they have learned in their daily lives\n\nPresented by Roxanne Pal RN\, MA\, NAWBO Iowa\n\n\n\nRoxanne Pals RN\, MA is a human-centered change architect and president of 3Consulting. She creates\, develops and implements human-centered change strategies for organizations and communities. Her clients include a variety of industries\, including aviation\, advanced manufacturing\, community wellbeing\, government\, health care\, hospitality\, insurance and public utilities. Roxanne is also the lead curator for Trilogy Change Collaborative\, a network of leaders\, educators\, consultants and coaches who are focused on creating the conditions necessary for humans to flourish in the midst of disruptive change.
X-ALT-DESC;FMTTYPE=text/html:This session focuses on the realities of leading and living in this time of disruptive change and the implications for humans. Participants will be introduced to a human-centered change approach and how they can create the conditions for human flourishing in the midst of disruption. Participants will engage in participative learning through conversation and collective large group sharing. They will learn and practice tools that can be applied immediately following the session in life and work.<br />\n<br />\nMain takeaways include:\n<ul>\n	<li>Learn how to lead during times of disruptive change with a human-centered focus</li>\n	<li>Be introduced to methods\, models and tools of human-centered change</li>\n	<li>Learn and practice human-centered change tools</li>\n	<li>Set intentions for how to practice what they have learned in their daily lives</li>\n</ul>\n<strong>Presented by Roxanne Pal RN\, MA\, NAWBO Iowa</strong><br />\n<br />\nRoxanne Pals RN\, MA is a human-centered change architect and president of <a href="http://www.rp3consulting.com/" target="_blank">3Consulting</a>. She creates\, develops and implements human-centered change strategies for organizations and communities. Her clients include a variety of industries\, including aviation\, advanced manufacturing\, community wellbeing\, government\, health care\, hospitality\, insurance and public utilities. Roxanne is also the lead curator for Trilogy Change Collaborative\, a network of leaders\, educators\, consultants and coaches who are focused on creating the conditions necessary for humans to flourish in the midst of disruptive change.
LOCATION:Webinar
UID:e.3222.1743
SEQUENCE:3
DTSTAMP:20260422T095526Z
URL:https://www.apacc.net/events/details/nawbo-presents-leading-in-disruptive-times-1743
END:VEVENT

END:VCALENDAR
