BEGIN:VCALENDAR
VERSION:2.0
PRODID:-//ChamberMaster//Event Calendar 2.0//EN
METHOD:PUBLISH
X-PUBLISHED-TTL:P3D
REFRESH-INTERVAL:P3D
CALSCALE:GREGORIAN
BEGIN:VEVENT
DTSTART:20180917T113000Z
DTEND:20180917T210000Z
X-MICROSOFT-CDO-ALLDAYEVENT:FALSE
SUMMARY:NAWBO PARtners Golf Outing
DESCRIPTION:Step out of the office and onto the course before summer is over for a fun filled day of golf!  Enjoy the day by connecting with our corporate partners\, network with new contacts and familiar faces! Not a golfer but anxious to learn? Join others in our Golf Clinic which includes a one-hour personalized lesson and six mini holes!  Or just join in the fun for dinner and participate in our raffle items\, prizes and more!
X-ALT-DESC;FMTTYPE=text/html:Step out of the office and onto the course before summer is over for a fun filled day of golf!&nbsp\; Enjoy the day by connecting with our corporate partners\, network with new contacts and familiar faces! Not a golfer but anxious to learn? Join others in our Golf Clinic which includes a one-hour personalized lesson and six mini holes!&nbsp\; Or just join in the fun for dinner and participate in our raffle items\, prizes and more!
LOCATION:Northville Hills Golf Club 15565 Bay Hill Dr. Northvillle\, MI 48168
UID:e.3222.125
SEQUENCE:3
DTSTAMP:20260422T222416Z
URL:https://www.apacc.net/events/details/nawbo-partners-golf-outing-125
END:VEVENT

END:VCALENDAR
