BEGIN:VCALENDAR
VERSION:2.0
PRODID:-//ChamberMaster//Event Calendar 2.0//EN
METHOD:PUBLISH
X-PUBLISHED-TTL:P3D
REFRESH-INTERVAL:P3D
CALSCALE:GREGORIAN
BEGIN:VEVENT
DTSTART:20200623T210000Z
DTEND:20200623T223000Z
X-MICROSOFT-CDO-ALLDAYEVENT:FALSE
SUMMARY:NAWBO GDC's Virtual President Reception and Annual Meeting
DESCRIPTION:Please join National Association of Women Business Owners of Greater Detroit (NAWBO) for the 2020 President's Reception\, Annual Meeting and Board Installation.
X-ALT-DESC;FMTTYPE=text/html:Please join National Association of Women Business Owners of Greater Detroit (NAWBO) for the 2020 President&#39\;s Reception\, Annual Meeting and Board Installation.
LOCATION:Zoom meet hosted by NAWBO GDC
UID:e.3222.1830
SEQUENCE:3
DTSTAMP:20260424T124644Z
URL:https://www.apacc.net/events/details/nawbo-gdc-s-virtual-president-reception-and-annual-meeting-1830
END:VEVENT

END:VCALENDAR
