BEGIN:VCALENDAR
VERSION:2.0
PRODID:-//ChamberMaster//Event Calendar 2.0//EN
METHOD:PUBLISH
X-PUBLISHED-TTL:P3D
REFRESH-INTERVAL:P3D
CALSCALE:GREGORIAN
BEGIN:VEVENT
DTSTART:20190127T140000Z
DTEND:20190128T000000Z
X-MICROSOFT-CDO-ALLDAYEVENT:FALSE
SUMMARY:NAIAS Public Show
DESCRIPTION:Experience the next generation of transportation at the 2019 North American International Auto Show. See more than 750 vehicles on display representing the most innovative designs in the world\, and experience North America's largest and most prestigious automotive showcase.
X-ALT-DESC;FMTTYPE=text/html:<br />\nExperience the next generation of transportation at the 2019 North American International Auto Show. See more than 750 vehicles on display representing the most innovative designs in the world\, and experience North America&#39\;s largest and most prestigious automotive showcase.
LOCATION:Cobo Center 1 Washington Blvd. Detroit\, MI 48226
UID:e.3222.315
SEQUENCE:3
DTSTAMP:20260422T065740Z
URL:https://www.apacc.net/events/details/naias-public-show-315
END:VEVENT

END:VCALENDAR
