BEGIN:VCALENDAR
VERSION:2.0
PRODID:-//ChamberMaster//Event Calendar 2.0//EN
METHOD:PUBLISH
X-PUBLISHED-TTL:P3D
REFRESH-INTERVAL:P3D
CALSCALE:GREGORIAN
BEGIN:VEVENT
DTSTART:20200623T220000Z
DTEND:20200623T233000Z
X-MICROSOFT-CDO-ALLDAYEVENT:FALSE
SUMMARY:NAAAP Detroit Presents - Racism is a Virus\, Too: Talking Our Kids Through 2020
DESCRIPTION:Join NAAAP Detroit for an open dialogue with the experts. "Racism is a Virus\, Too: Talking Our Kids through 2020" will address some of the unique challenges of being a parent\, caregiver\, or educator in 2020. We are hopeful this event will shed light on parenting insights for intellectual growth and mental health support\, as well as equip those of us who interact with children and young adults with an increased fluency in constructive\, supportive dialogues about sensitive topics like racism\, bullying\, health risks\, and more.\n\n\n\nNAAAP Detroit will moderate a 60-minute panel discussion followed by a 30-minute Q&A session with attendees. All are welcome!
X-ALT-DESC;FMTTYPE=text/html:Join NAAAP Detroit for an open dialogue with the experts. &ldquo\;Racism is a Virus\, Too: Talking Our Kids through 2020&rdquo\; will address some of the unique challenges of being a parent\, caregiver\, or educator in 2020. We are hopeful this event will shed light on parenting insights for intellectual growth and mental health support\, as well as equip those of us who interact with children and young adults with an increased fluency in constructive\, supportive dialogues about sensitive topics like racism\, bullying\, health risks\, and more.<br />\n<br />\nNAAAP Detroit will moderate a 60-minute panel discussion followed by a 30-minute Q&amp\;A session with attendees. All are welcome!
LOCATION:Virtual event by NAAAP Detroit
UID:e.3222.1828
SEQUENCE:3
DTSTAMP:20260423T061852Z
URL:https://www.apacc.net/events/details/naaap-detroit-presents-racism-is-a-virus-too-talking-our-kids-through-2020-1828
END:VEVENT

END:VCALENDAR
