BEGIN:VCALENDAR
VERSION:2.0
PRODID:-//ChamberMaster//Event Calendar 2.0//EN
METHOD:PUBLISH
X-PUBLISHED-TTL:P3D
REFRESH-INTERVAL:P3D
CALSCALE:GREGORIAN
BEGIN:VEVENT
DTSTART:20220623T213000Z
DTEND:20220623T223000Z
X-MICROSOFT-CDO-ALLDAYEVENT:FALSE
SUMMARY:MSHDA and DTE Energy Landlord Outreach Virtual Event
DESCRIPTION:The Michigan State Housing Development Authority (MSHDA) and DTE Energy are partnering for a virtual discussion from 5 to 6:30 p.m. on June 23\, 2022\, centering on landlord programs and energy assistance. MSHDA representatives will share information on the Housing Choice Voucher (HCV) program\, how to become an MSHDA HCV landlord\, the benefits of participating in MSHDA's HCV program\, and landlord incentive programs. DTE leaders will provide information about several energy assistance and payment programs\, such as the Low-Income Self-Sufficiency Program (LSP)\, the Home Heating Credit (HHC)\, and the State Emergency Relief (SER) application and energy efficiency initiatives. \n\n \n\nMSHDA and DTE representatives will be available until 6:30 p.m. for a live question-and-answer session after the end of the presentations. All Michiganders are welcome to attend the virtual event regardless of where they rent. \n\n\n\nView Flyer here.
X-ALT-DESC;FMTTYPE=text/html:<br />\nThe Michigan State Housing Development Authority (MSHDA) and DTE Energy are partnering for a virtual discussion from 5 to 6:30 p.m. on June 23\, 2022\, centering on landlord programs and energy assistance. MSHDA representatives will share information on the Housing Choice Voucher (HCV) program\, how to become an MSHDA HCV landlord\, the benefits of participating in MSHDA&rsquo\;s HCV program\, and landlord incentive programs. DTE leaders will provide information about several energy assistance and payment programs\, such as the Low-Income Self-Sufficiency Program (LSP)\, the Home Heating Credit (HHC)\, and the State Emergency Relief (SER) application and energy efficiency initiatives.&nbsp\;<br />\n&nbsp\;<br />\nMSHDA and DTE representatives will be available until 6:30 p.m. for a live question-and-answer session after the end of the presentations. All Michiganders are welcome to attend the virtual event regardless of where they rent.&nbsp\;<br />\n<br />\n<a href="https://chambermaster.blob.core.windows.net/userfiles/UserFiles/chambers/3222/File/MSHDA_DTEVirtualEventFlyer6_23_22.pdf" target="_blank">View Flyer here.&nbsp\;</a>
LOCATION:Virtual
UID:e.3222.2359
SEQUENCE:3
DTSTAMP:20260425T102440Z
URL:https://www.apacc.net/events/details/mshda-and-dte-energy-landlord-outreach-virtual-event-2359
END:VEVENT

END:VCALENDAR
