BEGIN:VCALENDAR
VERSION:2.0
PRODID:-//ChamberMaster//Event Calendar 2.0//EN
METHOD:PUBLISH
X-PUBLISHED-TTL:P3D
REFRESH-INTERVAL:P3D
CALSCALE:GREGORIAN
BEGIN:VEVENT
DTSTART:20200813T170000Z
DTEND:20200813T180000Z
X-MICROSOFT-CDO-ALLDAYEVENT:FALSE
SUMMARY:Minority Women Leading Through Change
DESCRIPTION:Giving Voice to Minority Women Leaders\n\n\n\nThe California Asian Pacific Chamber of Commerce and National ACE proudly present our month-long Minority Women Lead virtual conversation series!\n\n\n\nPANEL | Minority Women Leading Through Change\n\n\n\nHear from women who are leading companies and communities through unparalleled times\, fighting for equal rights and representation in the workplace\, and inspiring the next generation.\n\n\n\nFEATURING\n\n	Elizabeth Barajas-Rom n\, President and CEO\, Women's Funding Network\n	Martiza Davis\, VP\, Experience and Social Responsibility\, Sacramento Kings / Co-Founder\, Unseen Heroes\n	Dr. Alice Huffman\, President\, NAACP California and Hawaii\n	Dr. Natasha Lee\, Past President of the California Dental Association\; Member of the Governor's Task Force on Business and Jobs Recovery\n	Moderated by: Emiliana Guereca\, President\, Women's March California\n\nRead more and follow here.\n\n\n\nSign Up for events updates.
X-ALT-DESC;FMTTYPE=text/html:<strong>Giving Voice to Minority Women Leaders</strong><br />\n<br />\n<strong>The California Asian Pacific Chamber of Commerce and National ACE </strong>proudly present our month-long Minority Women Lead virtual conversation series!<br />\n<br />\n<strong>PANEL</strong> | Minority Women Leading Through Change<br />\n<br />\nHear from women who are leading companies and communities through unparalleled times\, fighting for equal rights and representation in the workplace\, and inspiring the next generation.<br />\n<br />\n<strong>FEATURING</strong>\n<ul>\n	<li>Elizabeth Barajas-Rom&aacute\;n\, President and CEO\, Women&#39\;s Funding Network</li>\n	<li>Martiza Davis\, VP\, Experience and Social Responsibility\, Sacramento Kings / Co-Founder\, Unseen Heroes</li>\n	<li>Dr. Alice Huffman\, President\, NAACP California and Hawaii</li>\n	<li>Dr. Natasha Lee\, Past President of the California Dental Association\; Member of the Governor&#39\;s Task Force on Business and Jobs Recovery</li>\n	<li>Moderated by: Emiliana Guereca\, President\, Women&#39\;s March California</li>\n</ul>\n<a href="https://www.nationalace.org/events/minority-women-leading-through-change" target="_blank">Read more and follow here</a>.<br />\n<br />\n<a href="https://minoritywomenlead.com/" target="_blank">Sign Up for events updates.</a><br />\n<br />\n&nbsp\;
LOCATION:Webinar
UID:e.3222.1923
SEQUENCE:3
DTSTAMP:20260422T051936Z
URL:https://www.apacc.net/events/details/minority-women-leading-through-change-1923
END:VEVENT

END:VCALENDAR
