BEGIN:VCALENDAR
VERSION:2.0
PRODID:-//ChamberMaster//Event Calendar 2.0//EN
METHOD:PUBLISH
X-PUBLISHED-TTL:P3D
REFRESH-INTERVAL:P3D
CALSCALE:GREGORIAN
BEGIN:VEVENT
DTSTART:20250702T150000Z
DTEND:20250702T170000Z
X-MICROSOFT-CDO-ALLDAYEVENT:FALSE
SUMMARY:MICHIGAN TO THE WORLD: DIGITAL TOOLS FOR SMARTER SALES AND MARKET EXPANSION
DESCRIPTION:Meet the Experts. Join our panelists for a discussion and Q&A about how to grow your exports\, sales\, brand\, and business internationally\n\n\n\nLearn\n\n	How to optimize your digital presence to attract international buyers.\n	Strategies for using localized websites\, social media\, and digital marketing to drive global engagement.\n	How to support international reps and distributors with co-branded content and lead generation.\n	Real-world examples of Michigan businesses achieving export success through smart digital tools
X-ALT-DESC;FMTTYPE=text/html:<br />\n<strong>Meet the Experts</strong>. Join our panelists for a discussion and Q&amp\;A about how to grow your exports\, sales\, brand\, and business internationally<br />\n<br />\n<strong>Learn</strong>\n<ul>\n	<li>How to optimize your digital presence to attract international buyers.</li>\n	<li>Strategies for using localized websites\, social media\, and digital marketing to drive global engagement.</li>\n	<li>How to support international reps and distributors with co-branded content and lead generation.</li>\n	<li>Real-world examples of Michigan businesses achieving export success through smart digital tools</li>\n</ul>\n
LOCATION:Online
UID:e.3222.2991
SEQUENCE:3
DTSTAMP:20260425T190942Z
URL:https://www.apacc.net/events/details/michigan-to-the-world-digital-tools-for-smarter-sales-and-market-expansion-2991
END:VEVENT

END:VCALENDAR
