BEGIN:VCALENDAR
VERSION:2.0
PRODID:-//ChamberMaster//Event Calendar 2.0//EN
METHOD:PUBLISH
X-PUBLISHED-TTL:P3D
REFRESH-INTERVAL:P3D
CALSCALE:GREGORIAN
BEGIN:VEVENT
DTSTART:20210323T130000Z
DTEND:20210323T190000Z
X-MICROSOFT-CDO-ALLDAYEVENT:FALSE
SUMMARY:Michigan Outdoor Industry Supplier Summit
DESCRIPTION:The Michigan Office of Outdoor Recreation Industry\, along with the Outdoor Recreation Roundtable and MEDC's Pure Michigan Business Connect\, will host the first Michigan Outdoor Industry Supplier Summit on Tuesday\, March 23 from 9:00 a.m.   3:00 p.m. This no-cost\, virtual event will highlight key industry trends and provide a platform for supply chain matchmaking between Michigan product and service suppliers and the outdoor recreation industry. Additionally\, attendees will be able to participate in an educational webinar\, networking opportunities and one-on-one buyer/supplier meetings. (Flyer attached)\n\n\n\nThis event will:\n\n	Educate Michigan suppliers on outdoor recreation product sales\, trends and opportunities\n	Facilitate connections between industry companies with purchasing or innovation needs and qualified Michigan suppliers to fill supply chain gaps\n	Increase visibility and promote capabilities of the Michigan supply base to a national outdoor recreation industry audience\n	Showcase how Michigan is leading the way with future mobility in outdoor recreation.\n\n\n\nFor more information\, programming agenda and registration\, click here.
X-ALT-DESC;FMTTYPE=text/html:<br />\nThe Michigan Office of Outdoor Recreation Industry\, along with the Outdoor Recreation Roundtable and MEDC&rsquo\;s Pure Michigan Business Connect\, will host the first Michigan Outdoor Industry Supplier Summit on Tuesday\, March 23 from 9:00 a.m. &ndash\; 3:00 p.m. This no-cost\, virtual event will highlight key industry trends and provide a platform for supply chain matchmaking between Michigan product and service suppliers and the outdoor recreation industry. Additionally\, attendees will be able to participate in an educational webinar\, networking opportunities and one-on-one buyer/supplier meetings. (Flyer attached)<br />\n<br />\nThis event will:\n<ul>\n	<li>Educate Michigan suppliers on outdoor recreation product sales\, trends and opportunities</li>\n	<li>Facilitate connections between industry companies with purchasing or innovation needs and qualified Michigan suppliers to fill supply chain gaps</li>\n	<li>Increase visibility and promote capabilities of the Michigan supply base to a national outdoor recreation industry audience</li>\n	<li>Showcase how Michigan is leading the way with future mobility in outdoor recreation.</li>\n</ul>\n<br />\nFor more information\, programming agenda and registration\, click <a href="https://pmbc.connect.space/michigan-outdoor-industry-supplier-summit/details" target="_blank">here</a>.
LOCATION:Virtual.
UID:e.3222.2080
SEQUENCE:3
DTSTAMP:20260421T062429Z
URL:https://www.apacc.net/events/details/michigan-outdoor-industry-supplier-summit-2080
END:VEVENT

END:VCALENDAR
