BEGIN:VCALENDAR
VERSION:2.0
PRODID:-//ChamberMaster//Event Calendar 2.0//EN
METHOD:PUBLISH
X-PUBLISHED-TTL:P3D
REFRESH-INTERVAL:P3D
CALSCALE:GREGORIAN
BEGIN:VEVENT
DTSTART:20250909T140000Z
DTEND:20250910T200000Z
X-MICROSOFT-CDO-ALLDAYEVENT:FALSE
SUMMARY:Michigan Defense and Aerospace Summit (MiDAS) for Leaders
DESCRIPTION:The Michigan Office of Defense and Aerospace Innovation (ODAI) will be hosting the inaugural Michigan Defense and Aerospace Summit (MiDAS) for leaders on September 9-10 in Lansing\, Michigan.  \n\n \n\nThe goal of this summit is multifold\, but it is to start the conversation on a state-wide level:\n\n\n	To engage and introduce current members/organizations of Michigan's Defense and Aerospace industries with other organizations and assist in the expansion of these industries within Michigan\, to include the defense maritime industry\n	To learn about other regions within Michigan and their engagement in defense and aerospace initiatives\, and/or their desire to become engaged. \n	To benchmark and learn about successes in other parts of the State of Michigan. \n	To explore the various resources available to stakeholders as to increase awareness of their availability. \n	To understand the opportunities for diversification and creation of a stronger future for Michigan and America.\n	Hear from Subject Matter and Regional Experts.
X-ALT-DESC;FMTTYPE=text/html:<p><br />\nThe Michigan Office of Defense and Aerospace Innovation (ODAI) will be hosting the inaugural Michigan Defense and Aerospace Summit (MiDAS) for leaders on September 9-10 in Lansing\, Michigan.&nbsp\;&nbsp\;<br />\n&nbsp\;<br />\nThe goal of this summit is multifold\, but it is to start the conversation on a state-wide level:</p>\n\n<ul>\n	<li>To engage and introduce current members/organizations of Michigan&rsquo\;s Defense and Aerospace industries with other organizations and assist in the expansion of these industries within Michigan\, to include the defense maritime industry</li>\n	<li>To learn about other regions within Michigan and their engagement in defense and aerospace initiatives\, and/or their desire to become engaged.&nbsp\;</li>\n	<li>To benchmark and learn about successes in other parts of the State of Michigan.&nbsp\;</li>\n	<li>To explore the various resources available to stakeholders as to increase awareness of their availability.&nbsp\;</li>\n	<li>To understand the opportunities for diversification and creation of a stronger future for Michigan and America.</li>\n	<li>Hear from Subject Matter and Regional Experts.</li>\n</ul>\n
LOCATION:The Lansing Center
UID:e.3222.3005
SEQUENCE:3
DTSTAMP:20260425T222356Z
URL:https://www.apacc.net/events/details/michigan-defense-and-aerospace-summit-midas-for-leaders-3005
END:VEVENT

END:VCALENDAR
