BEGIN:VCALENDAR
VERSION:2.0
PRODID:-//ChamberMaster//Event Calendar 2.0//EN
METHOD:PUBLISH
X-PUBLISHED-TTL:P3D
REFRESH-INTERVAL:P3D
CALSCALE:GREGORIAN
BEGIN:VEVENT
DTSTART:20200430T180000Z
DTEND:20200430T193000Z
X-MICROSOFT-CDO-ALLDAYEVENT:FALSE
SUMMARY:MichBusiness presents COVID-19 National Town Hall
DESCRIPTION:Engage with the digital panel of experts as they answer your questions in regards to COVID-19 news and information.\n\n\n\nWhich includes topics concerning:\n\n	Federal legislation   FFCRA\, Cares Act\, OSHA\, ADA\, EFMLA\, EEOC\, FLSA\,\n	New Human Resource policies\,\n	Return to work procedures\,\n	The latest updates on how COVID 19 is affecting the business community.\n\nThe COVID-19 National Town Hall will allow you to get the experts' real-time answers in an interactive Q&A session. We encourage you to ask questions in advance on the registration page and welcome live inquiries during the meeting.\n\n\n\nAttendees will walk away from this interactive Q&A session with answers to apply to real-time situations for real success.\n\n\n\nFor more information and to view speakers\, please click here.
X-ALT-DESC;FMTTYPE=text/html:Engage with the digital panel of experts as they answer your questions in regards to COVID-19 news and information.<br />\n<br />\nWhich includes topics concerning:\n<ul>\n	<li>Federal legislation &ndash\; FFCRA\, Cares Act\, OSHA\, ADA\, EFMLA\, EEOC\, FLSA\,</li>\n	<li>New Human Resource policies\,</li>\n	<li>Return to work procedures\,</li>\n	<li>The latest updates on how COVID 19 is affecting the business community.</li>\n</ul>\nThe COVID-19 National Town Hall will allow you to get the experts&rsquo\; real-time answers in an interactive Q&amp\;A session. We encourage you to ask questions in advance on the registration page and welcome live inquiries during the meeting.<br />\n<br />\nAttendees will walk away from this interactive Q&amp\;A session with answers to apply to real-time situations for real success.<br />\n<br />\nFor more information and to view speakers\, <a href="https://michbusiness.com/town-hall/?utm_medium=email&amp\;utm_campaign=ePub%2060%20Coronavirus%20update&amp\;utm_content=ePub%2060%20Coronavirus%20update+CID_390b63d6fbbaaa05959da7e506e83fc4&amp\;utm_source=Email%20marketing%20software%20Campaign%20Monitor#overview" target="_blank">please click here</a>.
LOCATION:Webinar
UID:e.3222.1704
SEQUENCE:3
DTSTAMP:20260424T082557Z
URL:https://www.apacc.net/events/details/michbusiness-presents-covid-19-national-town-hall-1704
END:VEVENT

END:VCALENDAR
