BEGIN:VCALENDAR
VERSION:2.0
PRODID:-//ChamberMaster//Event Calendar 2.0//EN
METHOD:PUBLISH
X-PUBLISHED-TTL:P3D
REFRESH-INTERVAL:P3D
CALSCALE:GREGORIAN
BEGIN:VEVENT
DTSTART:20210428T130000Z
DTEND:20210428T170000Z
X-MICROSOFT-CDO-ALLDAYEVENT:FALSE
SUMMARY:MHCC 2021 Virtual Sustainability Summit
DESCRIPTION:This summit is designed to introduce business owners and leaders to a variety of environmental and social topics to support greater Sustainability within your organization and provide you with resources and information to help guide you along your sustainability journey. You'll hear from business leaders in the banking\, automotive\, food and beverage\, construction\, energy\, and apparel industries. You'll walk away with nuggets of information and resources you can utilize and build upon as a conscientious and trusted supplier\, no matter the industry you serve or where you find your business in the greater supply chain.\n\n\n\nYou will have the opportunity to be a part of break-out sessions focused on specific sustainability topics\, with direct interaction with industry leading professionals and conversations among your peers\, as you expand and strengthen your business network across different industries. So\, join us and learn how you can start addressing different aspects of sustainability within your organization or what might be next on the horizon for you as you seek to develop and grow your company culture of sustainability.
X-ALT-DESC;FMTTYPE=text/html:This summit is designed to introduce business owners and leaders to a variety of environmental and social topics to support greater Sustainability within your organization and provide you with resources and information to help guide you along your sustainability journey. You&rsquo\;ll hear from business leaders in the banking\, automotive\, food and beverage\, construction\, energy\, and apparel industries. You&rsquo\;ll walk away with nuggets of information and resources you can utilize and build upon as a conscientious and trusted supplier\, no matter the industry you serve or where you find your business in the greater supply chain.<br />\n<br />\nYou will have the opportunity to be a part of break-out sessions focused on specific sustainability topics\, with direct interaction with industry leading professionals and conversations among your peers\, as you expand and strengthen your business network across different industries. So\, join us and learn how you can start addressing different aspects of sustainability within your organization or what might be next on the horizon for you as you seek to develop and grow your company culture of sustainability.&nbsp\;
LOCATION:Virtual
UID:e.3222.2101
SEQUENCE:3
DTSTAMP:20260422T125342Z
URL:https://www.apacc.net/events/details/mhcc-2021-virtual-sustainability-summit-2101
END:VEVENT

END:VCALENDAR
