BEGIN:VCALENDAR
VERSION:2.0
PRODID:-//ChamberMaster//Event Calendar 2.0//EN
METHOD:PUBLISH
X-PUBLISHED-TTL:P3D
REFRESH-INTERVAL:P3D
CALSCALE:GREGORIAN
BEGIN:VEVENT
DTSTART:20181114T220000Z
DTEND:20181115T000000Z
X-MICROSOFT-CDO-ALLDAYEVENT:FALSE
SUMMARY:Membership Reception: Strike New Connections
DESCRIPTION:Join the Detroit Regional Chamber for its Membership Reception: Strike New Connections on Wednesday\, Nov. 14 at Lucky Strike in Novi. Take advantage of this opportunity to network with fellow Chamber members in a relaxing atmosphere after work. Chamber members can expand their network and make new connections with leaders from diverse industries.\n\n\n\nComplimentary appetizers and a cash bar will be available.
X-ALT-DESC;FMTTYPE=text/html:Join the Detroit Regional Chamber for its Membership Reception: Strike New Connections on Wednesday\, Nov. 14 at Lucky Strike in Novi. Take advantage of this opportunity to network with fellow Chamber members in a relaxing atmosphere after work. Chamber members can expand their network and make new connections with leaders from diverse industries.<br />\n<br />\nComplimentary appetizers and a cash bar will be available.
LOCATION:Lucky Strike - Novi 44325 W. 12 Mile Road Novi\, MI 48377
UID:e.3222.204
SEQUENCE:3
DTSTAMP:20260422T173940Z
URL:https://www.apacc.net/events/details/membership-reception-strike-new-connections-204
END:VEVENT

END:VCALENDAR
