BEGIN:VCALENDAR
VERSION:2.0
PRODID:-//ChamberMaster//Event Calendar 2.0//EN
METHOD:PUBLISH
X-PUBLISHED-TTL:P3D
REFRESH-INTERVAL:P3D
CALSCALE:GREGORIAN
BEGIN:VEVENT
DTSTART:20200729T200000Z
DTEND:20200729T210000Z
X-MICROSOFT-CDO-ALLDAYEVENT:FALSE
SUMMARY:MEDC presents Export Opportunities in Australia and New Zealand
DESCRIPTION:Is your Michigan company looking to expand into or increase your export opportunities in the Australian and New Zealand markets? If so\, join us for this free\, MUST-attend virtual event.\n\n\n\nMichigan Economic Development Corporation's (MEDC) Trade Office is partnering with Foley & Associates and the Great Lakes St. Lawrence Governors & Premiers to host this virtual event. Attendees will hear brief remarks from the Honorable David Bushby\, Consul-General of Australia in Chicago\, and learn more on the following topics:\n\n	The current and future state of play in the Australian and New Zealand markets\, including the present environment\, how these countries have weathered the recent crisis and why an economic improvement is expected in both markets\n	Tips for conducting international business in this challenging time\, including how to assess these markets and engage with current and future Australian and New Zealand partners and customers\n	What data you should be gathering to help you select and prioritize key overseas markets\n	Sectors of opportunity include advanced manufacturing\, agriculture\, medical device technology\, mobility and automotive manufacturing\, technology\, and engineering\, design and development\n\nNow is the perfect time to review your international business plans.
X-ALT-DESC;FMTTYPE=text/html:Is your Michigan company looking to expand into or increase your export opportunities in the Australian and New Zealand markets? If so\, join us for this free\, MUST-attend virtual event.<br />\n<br />\nMichigan Economic Development Corporation&rsquo\;s (MEDC) Trade Office is partnering with Foley &amp\; Associates and the Great Lakes St. Lawrence Governors &amp\; Premiers to host this virtual event. Attendees will hear brief remarks from the Honorable David Bushby\, Consul-General of Australia in Chicago\, and learn more on the following topics:\n<ul>\n	<li>The current and future state of play in the Australian and New Zealand markets\, including the present environment\, how these countries have weathered the recent crisis and why an economic improvement is expected in both markets</li>\n	<li>Tips for conducting international business in this challenging time\, including how to assess these markets and engage with current and future Australian and New Zealand partners and customers</li>\n	<li>What data you should be gathering to help you select and prioritize key overseas markets</li>\n	<li>Sectors of opportunity include advanced manufacturing\, agriculture\, medical device technology\, mobility and automotive manufacturing\, technology\, and engineering\, design and development</li>\n</ul>\nNow is the perfect time to review your international business plans.&nbsp\;<br />\n&nbsp\;
LOCATION:Webinar by MEDC
UID:e.3222.1905
SEQUENCE:3
DTSTAMP:20260422T083731Z
URL:https://www.apacc.net/events/details/medc-presents-export-opportunities-in-australia-and-new-zealand-1905
END:VEVENT

END:VCALENDAR
