BEGIN:VCALENDAR
VERSION:2.0
PRODID:-//ChamberMaster//Event Calendar 2.0//EN
METHOD:PUBLISH
X-PUBLISHED-TTL:P3D
REFRESH-INTERVAL:P3D
CALSCALE:GREGORIAN
BEGIN:VEVENT
DTSTART:20201217T190000Z
DTEND:20201217T200000Z
X-MICROSOFT-CDO-ALLDAYEVENT:FALSE
SUMMARY:MEDC eCommerce Webinar Series: International Sales with Amazon
DESCRIPTION:This free webinar will explore considerations for selling your products in new countries! We'll look at ways to see if your product is appropriate from a consumer need and compliance standpoint\, how to create product listings in multiple languages\, fulfillment options and business obligations.
X-ALT-DESC;FMTTYPE=text/html:<br />\nThis free webinar will explore considerations for selling your products in new countries! We&rsquo\;ll look at ways to see if your product is appropriate from a consumer need and compliance standpoint\, how to create product listings in multiple languages\, fulfillment options and business obligations.
LOCATION:Webinar by MEDC
UID:e.3222.2025
SEQUENCE:3
DTSTAMP:20260424T030112Z
URL:https://www.apacc.net/events/details/medc-ecommerce-webinar-series-international-sales-with-amazon-2025
END:VEVENT

END:VCALENDAR
