BEGIN:VCALENDAR
VERSION:2.0
PRODID:-//ChamberMaster//Event Calendar 2.0//EN
METHOD:PUBLISH
X-PUBLISHED-TTL:P3D
REFRESH-INTERVAL:P3D
CALSCALE:GREGORIAN
BEGIN:VEVENT
DTSTART:20210223T223000Z
DTEND:20210223T230000Z
X-MICROSOFT-CDO-ALLDAYEVENT:FALSE
SUMMARY:Master's Degree Connection Days
DESCRIPTION:Are you thinking about earning your master's degree? Connect with a Walsh Admissions Advisor to learn how to take that next step to start your degree! Join this virtual session to learn about: What's needed for admission and how to apply - we'll waive your application fee! The simple admission process and how to get started in Walsh classes as soon as March 30th Options to afford your master's - financial aid resources & graduate student scholarships Business\, technology\, and dual degree options How a Walsh program has flexible formats to fit into your life and schedule Resources to be successful in your master's degree
X-ALT-DESC;FMTTYPE=text/html:<br />\nAre you thinking about earning your master&#39\;s degree? Connect with a Walsh Admissions Advisor to learn how to take that next step to start your degree! Join this virtual session to learn about: What&#39\;s needed for admission and how to apply - we&#39\;ll waive your application fee! The simple admission process and how to get started in Walsh classes as soon as March 30th Options to afford your master&#39\;s - financial aid resources &amp\; graduate student scholarships Business\, technology\, and dual degree options How a Walsh program has flexible formats to fit into your life and schedule Resources to be successful in your master&#39\;s degree
LOCATION:Virtual
UID:e.3222.2057
SEQUENCE:3
DTSTAMP:20260424T082958Z
URL:https://www.apacc.net/events/details/master-s-degree-connection-days-2057
END:VEVENT

END:VCALENDAR
