BEGIN:VCALENDAR
VERSION:2.0
PRODID:-//ChamberMaster//Event Calendar 2.0//EN
METHOD:PUBLISH
X-PUBLISHED-TTL:P3D
REFRESH-INTERVAL:P3D
CALSCALE:GREGORIAN
BEGIN:VEVENT
DTSTART:20181114T163000Z
DTEND:20181114T170000Z
X-MICROSOFT-CDO-ALLDAYEVENT:FALSE
SUMMARY:Marketing Your Business
DESCRIPTION:Does your marketing strategy target your greatest opportunities for increases sales and achieving a competitive advantage?\n\n\n\nThere is much more to marketing than having a couple of social media accounts and an email newsletter. In this webinar\, we'll discuss market analysis and research\, competitive analysis and position\, as well as product price\, placement\, and promotion\, and finish up with strategy implementation. \n\n\n\nWe have reserved 20 minutes for a live question and answer session\, in which one of our certified small business consultants will answer questions from the audience on a first come\, first served basis.\n\n\n\nAfter the webinar\, you will receive a copy of the webinar recording\, as well as sample business plan templates\, and other resources.\n\n\n\nSpeaker(s): Michigan SBDC Staff\n\n\n\n  After registering\, please click "Continue" and complete the GoToWebinar registration page to ensure you can access the webinar.\n\n  You will also receive a reminder email the morning of the webinar with a link to access the presentation.\n\n  ***If you do not receive our email communications after registering for this webinar\, please check your spam filter and add info@clients.sbdcmichigan.org to your address book to ensure emails about our webinars reach your inbox.***\n\n  Registration will close at 10am the day of the webinar. \n\n  We will be unable to provide technical assistance for accessing the webinar beginning 30 minutes prior to the start of the webinar.\n\n  Reasonable accommodations for persons with disabilities will be made if requested at least two weeks in advance.\n\n  Contact Ian Rogers at rogersia@gvsu.edu.
X-ALT-DESC;FMTTYPE=text/html:Does your marketing strategy target your greatest opportunities for increases sales and achieving a competitive advantage?<br />\n<br />\nThere is much more to marketing than having a couple of social media accounts and an email newsletter. In this webinar\, we&rsquo\;ll discuss market analysis and research\, competitive analysis and position\, as well as product price\, placement\, and promotion\, and finish up with strategy implementation.&nbsp\;<br />\n<br />\nWe have reserved 20 minutes for a live question and answer session\, in which one of our certified small business consultants will answer questions from the audience on a first come\, first served basis.<br />\n<br />\nAfter the webinar\, you will receive a copy of the webinar recording\, as well as sample business plan templates\, and other resources.<br />\n<br />\nSpeaker(s): Michigan SBDC Staff<br />\n<br />\n&bull\; After registering\, please click &quot\;Continue&quot\; and complete the GoToWebinar registration page to ensure you can access the webinar.<br />\n&bull\; You will also receive a reminder email the morning of the webinar with a link to access the presentation.<br />\n&bull\; ***If you do not receive our email communications after registering for this webinar\, please check your spam filter and add info@clients.sbdcmichigan.org to your address book to ensure emails about our webinars reach your inbox.***<br />\n&bull\; Registration will close at 10am the day of the webinar.&nbsp\;<br />\n&bull\; We will be unable to provide technical assistance for accessing the webinar beginning 30 minutes prior to the start of the webinar.<br />\n&bull\; Reasonable accommodations for persons with disabilities will be made if requested at least two weeks in advance.<br />\n&bull\; Contact Ian Rogers at rogersia@gvsu.edu.
LOCATION:
UID:e.3222.213
SEQUENCE:3
DTSTAMP:20260423T180252Z
URL:https://www.apacc.net/events/details/marketing-your-business-213
END:VEVENT

END:VCALENDAR
