BEGIN:VCALENDAR
VERSION:2.0
PRODID:-//ChamberMaster//Event Calendar 2.0//EN
METHOD:PUBLISH
X-PUBLISHED-TTL:P3D
REFRESH-INTERVAL:P3D
CALSCALE:GREGORIAN
BEGIN:VEVENT
DTSTART:20200624T170000Z
DTEND:20200624T180000Z
X-MICROSOFT-CDO-ALLDAYEVENT:FALSE
SUMMARY:Market Research Basics During the Coronavirus Crisis - Consumers Have Changed\, Will You?
DESCRIPTION:Coronavirus-Focused Virtual Business Workshops Among Several Offered by Oakland County Small Business Team\n\n\n\nBusiness owners and entrepreneurs who may have had their operations or aspirations interrupted by the coronavirus pandemic have a chance to get back on track with the help of expert business counselors from Oakland County's small business team.\n\n\n\nWhile it's impossible to predict what the "new normal" will look like once your business reopens during the coronavirus\, understanding customer expectations\, incomes\, spending habits and behaviors will be key in these uncertain times. This workshop examines changes in consumer behavior for business-to- consumer establishments (B2C) as a result of the pandemic\, which behaviors may stick long term and market research resources available to you to help you attract and retain customers.\n\n\n\nThis workshop is designed to help existing businesses.
X-ALT-DESC;FMTTYPE=text/html:Coronavirus-Focused Virtual Business Workshops Among Several Offered by Oakland County Small Business Team<br />\n<br />\nBusiness owners and entrepreneurs who may have had their operations or aspirations interrupted by the coronavirus pandemic have a chance to get back on track with the help of expert business counselors from Oakland County&rsquo\;s small business team.<br />\n<br />\nWhile it&rsquo\;s impossible to predict what the &ldquo\;new normal&rdquo\; will look like once your business reopens during the coronavirus\, understanding customer expectations\, incomes\, spending habits and behaviors will be key in these uncertain times. This workshop examines changes in consumer behavior for business-to- consumer establishments (B2C) as a result of the pandemic\, which behaviors may stick long term and market research resources available to you to help you attract and retain customers.<br />\n<br />\nThis workshop is designed to help existing businesses.&nbsp\;
LOCATION:Webinar Offered by Oakland County Small Business Team
UID:e.3222.1844
SEQUENCE:3
DTSTAMP:20260424T140008Z
URL:https://www.apacc.net/events/details/market-research-basics-during-the-coronavirus-crisis-consumers-have-changed-will-you-1844
END:VEVENT

END:VCALENDAR
