BEGIN:VCALENDAR
VERSION:2.0
PRODID:-//ChamberMaster//Event Calendar 2.0//EN
METHOD:PUBLISH
X-PUBLISHED-TTL:P3D
REFRESH-INTERVAL:P3D
CALSCALE:GREGORIAN
BEGIN:VEVENT
DTSTART:20180316T123000Z
DTEND:20180316T143000Z
X-MICROSOFT-CDO-ALLDAYEVENT:FALSE
SUMMARY:LTU Small Manufacturers Roundtable
DESCRIPTION:Lawrence Technological University (LTU) \n\nSmall Manufacturers Roundtable Growth Stories of Success and Challenges  \n\n\n\nThe LTU Small Manufacturers Roundtable is designed to allow a free sharing of challenges and success stories associated with managing a small manufacturing company. Successful small manufacturing owners will be featured who have proven to grow their business. Case studies will be presented on the impact growth has on talent\, financing\, scaling operations\, automation\, integration of advanced technologies\, and customer diversification. Information on LTU's new ScaleUp for Success Program designed to help small manufacturers and hardware innovators grow their business will also be highlighted.
X-ALT-DESC;FMTTYPE=text/html:<strong><span style="color:#9F2419\;">Lawrence Technological University (LTU)&nbsp\;</span><br />\n<em>Small Manufacturers Roundtable Growth Stories of Success and Challenges&nbsp\;</em></strong><em>&nbsp\;</em><br />\n<br />\n<span style="font-family:arial\;">The LTU Small Manufacturers Roundtable is designed to allow a free sharing of challenges and success stories associated with managing a small manufacturing company. Successful small manufacturing owners will be featured who have proven to grow their business. Case studies will be presented on the impact growth has on talent\, financing\, scaling operations\, automation\, integration of advanced technologies\, and customer diversification. Information on LTU&rsquo\;s new ScaleUp for Success Program designed to help small manufacturers and hardware innovators grow their business will also be highlighted.</span>
LOCATION:LTU Buell Building M336 21000 West Ten Mile Road Southfield\, MI 48076
UID:e.3222.7
SEQUENCE:3
DTSTAMP:20260421T082838Z
URL:https://www.apacc.net/events/details/ltu-small-manufacturers-roundtable-7
END:VEVENT

END:VCALENDAR
