BEGIN:VCALENDAR
VERSION:2.0
PRODID:-//ChamberMaster//Event Calendar 2.0//EN
METHOD:PUBLISH
X-PUBLISHED-TTL:P3D
REFRESH-INTERVAL:P3D
CALSCALE:GREGORIAN
BEGIN:VEVENT
DTSTART:20210105T203000Z
DTEND:20210105T210000Z
X-MICROSOFT-CDO-ALLDAYEVENT:FALSE
SUMMARY:Live: Restaurant & Bar Q & A with COVID-19 Workplace Safety Director\, Sean Egan
DESCRIPTION:Join us for a live virtual event to provide you with specific restaurant and bar guidelines for operations\, compliance and safety requirements for employees and customers.\n\n\n\nSean Egan\, Michigan COVID-19 Workplace Safety Director\, will be answering your workplace safety questions about state expectations and worker's health and safety requirements.\n\n\n\nThis service is provided to you at no charge by Michigan Department of Labor and Economic Opportunity (LEO).
X-ALT-DESC;FMTTYPE=text/html:Join us for a live virtual event to provide you with specific restaurant and bar guidelines for operations\, compliance and safety requirements for employees and customers.<br />\n<br />\nSean Egan\, Michigan COVID-19 Workplace Safety Director\, will be answering your workplace safety questions about state expectations and worker&rsquo\;s health and safety requirements.<br />\n<br />\nThis service is provided to you at no charge by <a href="https://www.michigan.gov/leo?utm_medium=email&amp\;utm_source=govdelivery" target="_blank">Michigan Department of Labor and Economic Opportunity (LEO)</a>.
LOCATION:Live event by LEO
UID:e.3222.2040
SEQUENCE:3
DTSTAMP:20260421T213338Z
URL:https://www.apacc.net/events/details/live-restaurant-bar-q-a-with-covid-19-workplace-safety-director-sean-egan-2040
END:VEVENT

END:VCALENDAR
