BEGIN:VCALENDAR
VERSION:2.0
PRODID:-//ChamberMaster//Event Calendar 2.0//EN
METHOD:PUBLISH
X-PUBLISHED-TTL:P3D
REFRESH-INTERVAL:P3D
CALSCALE:GREGORIAN
BEGIN:VEVENT
DTSTART:20200807T180000Z
DTEND:20200807T183000Z
X-MICROSOFT-CDO-ALLDAYEVENT:FALSE
SUMMARY:Live Q&A with COVID-19 Workplace Safety Director\, Sean Egan
DESCRIPTION:Please join Michigan Department of Labor and Economic Opportunity for a live virtual event to provide you with important information and updates on workplace safety during the pandemic. \n\n\n\nSean Egan\, Michigan COVID-19 Workplace Safety Director\, will be answering your workplace safety questions related to guidelines for operations\, state expectations and worker's health and safety requirements.\n\nSubmit questions to LEO-Comms@michigan.gov.
X-ALT-DESC;FMTTYPE=text/html:Please join Michigan Department of Labor and Economic Opportunity for a live virtual event to provide you with important information and updates on workplace safety during the pandemic.&nbsp\;<br />\n<br />\nSean Egan\, Michigan COVID-19 Workplace Safety Director\, will be answering your workplace safety questions related to guidelines for operations\, state expectations and worker&rsquo\;s health and safety requirements.<br />\nSubmit questions to <a href="mailto:LEO-Comms@michigan.gov" target="_blank">LEO-Comms@michigan.gov</a>.
LOCATION:Virtual Live event by LEO
UID:e.3222.1918
SEQUENCE:3
DTSTAMP:20260422T052145Z
URL:https://www.apacc.net/events/details/live-q-a-with-covid-19-workplace-safety-director-sean-egan-1918
END:VEVENT

END:VCALENDAR
