BEGIN:VCALENDAR
VERSION:2.0
PRODID:-//ChamberMaster//Event Calendar 2.0//EN
METHOD:PUBLISH
X-PUBLISHED-TTL:P3D
REFRESH-INTERVAL:P3D
CALSCALE:GREGORIAN
BEGIN:VEVENT
DTSTART:20200909T183000Z
DTEND:20200909T190000Z
X-MICROSOFT-CDO-ALLDAYEVENT:FALSE
SUMMARY:Live Gym & Fitness center Q&A with COVID-19 Workplace Safety Director\, Sean Egan
DESCRIPTION:Join us for a live virtual event to provide you with important information and updates on workplace safety during the pandemic. Sean Egan\, Michigan Director of COVID-19 Workplace Safety\, will be answering your workplace safety questions related to gym and fitness center guidelines for operations\, state expectations and worker's health and safety requirements.
X-ALT-DESC;FMTTYPE=text/html:Join us for a live virtual event to provide you with important information and updates on workplace safety during the pandemic. Sean Egan\, Michigan Director of COVID-19 Workplace Safety\, will be answering your workplace safety questions related to gym and fitness center guidelines for operations\, state expectations and worker&rsquo\;s health and safety requirements.
LOCATION:Live event by Michigan Department of Labor and Economic Opportunity
UID:e.3222.1954
SEQUENCE:3
DTSTAMP:20260422T052221Z
URL:https://www.apacc.net/events/details/live-gym-fitness-center-q-a-with-covid-19-workplace-safety-director-sean-egan-1954
END:VEVENT

END:VCALENDAR
