BEGIN:VCALENDAR
VERSION:2.0
PRODID:-//ChamberMaster//Event Calendar 2.0//EN
METHOD:PUBLISH
X-PUBLISHED-TTL:P3D
REFRESH-INTERVAL:P3D
CALSCALE:GREGORIAN
BEGIN:VEVENT
DTSTART:20201116T190000Z
DTEND:20201116T200000Z
X-MICROSOFT-CDO-ALLDAYEVENT:FALSE
SUMMARY:Live Emergency Rules Q&A with COVID-19 Workplace Safety Director\, Sean Egan
DESCRIPTION:Please join MIOSHA for a live virtual event to provide you with important information and updates on remote work policies and workplace safety during the pandemic.\n\n\n\nSean Egan\, Michigan Director of COVID-19 Workplace Safety\, will be answering your workplace safety questions related to the remote work policies outlined in the MIOSHA Emergency Rules\, state expectations and worker's health and safety requirements.\n\n\n\nLearn more about the State Emphasis Program on remote work.
X-ALT-DESC;FMTTYPE=text/html:Please join MIOSHA for a live virtual event to provide you with important information and updates on remote work policies and workplace safety during the pandemic.<br />\n<br />\nSean Egan\, Michigan Director of COVID-19 Workplace Safety\, will be answering your workplace safety questions related to the remote work policies outlined in the <a href="https://www.michigan.gov/documents/leo/Final_MIOSHA_Rules_705164_7.pdf?utm_medium=email&amp\;utm_source=govdelivery" target="_blank">MIOSHA Emergency Rules</a>\, state expectations and worker&rsquo\;s health and safety requirements.<br />\n<br />\n<a href="https://www.michigan.gov/leo/0\,5863\,7-336-76741-544922--\,00.html?utm_medium=email&amp\;utm_source=govdelivery" target="_blank">Learn more about the State Emphasis Program on remote work</a>.
LOCATION:Live Virtual Event by MIOSHA
UID:e.3222.2007
SEQUENCE:3
DTSTAMP:20260422T022004Z
URL:https://www.apacc.net/events/details/live-emergency-rules-q-a-with-covid-19-workplace-safety-director-sean-egan-2007
END:VEVENT

END:VCALENDAR
