BEGIN:VCALENDAR
VERSION:2.0
PRODID:-//ChamberMaster//Event Calendar 2.0//EN
METHOD:PUBLISH
X-PUBLISHED-TTL:P3D
REFRESH-INTERVAL:P3D
CALSCALE:GREGORIAN
BEGIN:VEVENT
DTSTART:20210513T163000Z
DTEND:20210513T203000Z
X-MICROSOFT-CDO-ALLDAYEVENT:FALSE
SUMMARY:LGBT Colours Conference and Pride Awards Matchmakers
DESCRIPTION:Calling all MBE suppliers   please apply by April 30\n\n\n\nPMBC has partnered with the Detroit Regional LGBT Chamber of Commerce to provide matchmaking during their annual Colours Conference on Friday\, May 13\, 2021. This virtual event will provide supply chain matchmaking between corporate buyers and LGBTE product and service suppliers. \n\n\n\nThe Detroit LGBT Chamber and PMBC have uncovered current and future opportunities for LGBT and MBE in-state suppliers. As a part of the Virtual Colours Conference\, PMBC & the Detroit LGBT Chamber will host one-on-one matchmaking meetings bringing together purchasers. The purchasers include:\n\n	DTE\n	Meijer\n	Ford\n	Comerica\n	Magna\n	Kellogg\n	Consumers Energy\n\n\n\nProcurement needs include\, but aren't limited to\; automotive suppliers\, overhead door maintenance and repair services\, towing services\, PPE\, cleaning supplies\, and more. To date\, the Chamber has recruited seven corporate buyers to participate.  \n\n\n\nSupplier application is now open and is for LGBTBE's and MBE's\, and closes on April 30\, 2021.\n\n\n\nFor more information and agenda of the event\, please click here.
X-ALT-DESC;FMTTYPE=text/html:<br />\n<br />\n<em><strong>Calling all MBE suppliers &ndash\; please apply by April 30</strong></em><br />\n<br />\nPMBC has partnered with the Detroit Regional LGBT Chamber of Commerce to provide matchmaking during their annual Colours Conference on Friday\, May 13\, 2021. This virtual event will provide supply chain matchmaking between corporate buyers and LGBTE product and service suppliers.&nbsp\;<br />\n<br />\nThe Detroit LGBT Chamber and PMBC have uncovered current and future opportunities for LGBT and MBE in-state suppliers. As a part of the Virtual Colours Conference\, PMBC &amp\; the Detroit LGBT Chamber will host one-on-one matchmaking meetings bringing together purchasers. The purchasers include:\n<ul>\n	<li>DTE</li>\n	<li>Meijer</li>\n	<li>Ford</li>\n	<li>Comerica</li>\n	<li>Magna</li>\n	<li>Kellogg</li>\n	<li>Consumers Energy</li>\n</ul>\n<br />\nProcurement needs include\, but aren&rsquo\;t limited to\; automotive suppliers\, overhead door maintenance and repair services\, towing services\, PPE\, cleaning supplies\, and more. To date\, the Chamber has recruited seven corporate buyers to participate.&nbsp\;&nbsp\;<br />\n<br />\nSupplier application is now open and is for LGBTBE&#39\;s and MBE&#39\;s\, and closes on April 30\, 2021.<br />\n<br />\nFor more information and agenda of the event\, please click <a href="https://colours.vfairs.com/" target="_blank">here</a>.
LOCATION:Virtual
UID:e.3222.2115
SEQUENCE:3
DTSTAMP:20260423T105253Z
URL:https://www.apacc.net/events/details/lgbt-colours-conference-and-pride-awards-matchmakers-2115
END:VEVENT

END:VCALENDAR
