BEGIN:VCALENDAR
VERSION:2.0
PRODID:-//ChamberMaster//Event Calendar 2.0//EN
METHOD:PUBLISH
X-PUBLISHED-TTL:P3D
REFRESH-INTERVAL:P3D
CALSCALE:GREGORIAN
BEGIN:VEVENT
DTSTART:20200820T170000Z
DTEND:20200820T180000Z
X-MICROSOFT-CDO-ALLDAYEVENT:FALSE
SUMMARY:Learn how diversity certification can create new opportunities for your business
DESCRIPTION:You're invited to the next webinar in our series designed to help small businesses Be UnstoppableTM.\n\n\n\nIf you have a minority-owned business\, you're working hard to make sure it grows and prospers. But sometimes it can be challenging to get the support you need\, or have the opportunity to bid on a contract that could take your business to the next level.\n\n\n\nIn our upcoming webinar Using Supplier Diversity Channels to Grow Your Business we'll discuss how obtaining a diversity certification\, and leveraging the supplier diversity network\, can open doors to a variety of development opportunities\, as well as help your business connect with companies to become part of their corporate supply chain.\n\n\n\nJoin Kris Oswold\, UPS VP\, Global Supplier Diversity\, Dr. Thomas "Danny" Boston\, Economist and Publisher of GazelleIndex.com\, Jose Turkienicz\, UPS Chief Procurement Officer and President\, Real Estate\, Stacey Key\, President of the Georgia Minority Supplier Development Council (GMSDC)\, and Clarence Robie\, Owner of B&S Electric Supply Co.\, Inc.\, as we help you:\n\n	Understand the qualification requirements and steps to secure diversity certification\n	Learn why supplier diversity is a critical pathway to broaden economic inclusion\n	Discover the learning\, mentoring\, and networking opportunities available to you\n	Learn how corporations use supplier diversity strategies to find new\, innovative suppliers\n	Hear the story of a minority-owned business that has leveraged supplier diversity channels to generate growth
X-ALT-DESC;FMTTYPE=text/html:You&rsquo\;re invited to the next webinar in our series designed to help small businesses Be UnstoppableTM.<br />\n<br />\nIf you have a minority-owned business\, you&rsquo\;re working hard to make sure it grows and prospers. But sometimes it can be challenging to get the support you need\, or have the opportunity to bid on a contract that could take your business to the next level.<br />\n<br />\nIn our upcoming webinar&mdash\;<strong>Using Supplier Diversity Channels to Grow Your Business</strong>&mdash\;we&rsquo\;ll discuss how obtaining a diversity certification\, and leveraging the supplier diversity network\, can open doors to a variety of development opportunities\, as well as help your business connect with companies to become part of their corporate supply chain.<br />\n<br />\nJoin <strong>Kris Oswold</strong>\, UPS VP\, Global Supplier Diversity\, <strong>Dr. Thomas &ldquo\;Danny&rdquo\; Boston</strong>\, Economist and Publisher of GazelleIndex.com\, <strong>Jose Turkienicz</strong>\, UPS Chief Procurement Officer and President\, Real Estate\, <strong>Stacey Key</strong>\, President of the Georgia Minority Supplier Development Council (GMSDC)\, and <strong>Clarence Robie</strong>\, Owner of B&amp\;S Electric Supply Co.\, Inc.\, as we help you:\n<ul>\n	<li>Understand the qualification requirements and steps to secure diversity certification</li>\n	<li>Learn why supplier diversity is a critical pathway to broaden economic inclusion</li>\n	<li>Discover the learning\, mentoring\, and networking opportunities available to you</li>\n	<li>Learn how corporations use supplier diversity strategies to find new\, innovative suppliers</li>\n	<li>Hear the story of a minority-owned business that has leveraged supplier diversity channels to generate growth</li>\n</ul>\n
LOCATION:Webinar by UPS
UID:e.3222.1934
SEQUENCE:3
DTSTAMP:20260422T052006Z
URL:https://www.apacc.net/events/details/learn-how-diversity-certification-can-create-new-opportunities-for-your-business-1934
END:VEVENT

END:VCALENDAR
