BEGIN:VCALENDAR
VERSION:2.0
PRODID:-//ChamberMaster//Event Calendar 2.0//EN
METHOD:PUBLISH
X-PUBLISHED-TTL:P3D
REFRESH-INTERVAL:P3D
CALSCALE:GREGORIAN
BEGIN:VEVENT
DTSTART:20200603T190000Z
DTEND:20200603T200000Z
X-MICROSOFT-CDO-ALLDAYEVENT:FALSE
SUMMARY:Leadership: Managing Your Business in Times of Crisis
DESCRIPTION:Strong leadership is key to navigating a crisis. While no playbook exists for leadership under high stakes circumstances\, small businesses that are adaptable and resilient during the current pandemic will thrive. As a leader\, the current COVID-19 crisis can be the defining moment for your small business. Our experienced professionals will share their perspectives on what they have found works best.
X-ALT-DESC;FMTTYPE=text/html:Strong leadership is key to navigating a crisis. While no playbook exists for leadership under high stakes circumstances\, small businesses that are adaptable and resilient during the current pandemic will thrive. As a leader\, the current COVID-19 crisis can be the defining moment for your small business. Our experienced professionals will share their perspectives on what they have found works best.<br />\n
LOCATION:Webinar by Small Business Roundtable and Paypal
UID:e.3222.1751
SEQUENCE:3
DTSTAMP:20260424T140044Z
URL:https://www.apacc.net/events/details/leadership-managing-your-business-in-times-of-crisis-1751
END:VEVENT

END:VCALENDAR
