BEGIN:VCALENDAR
VERSION:2.0
PRODID:-//ChamberMaster//Event Calendar 2.0//EN
METHOD:PUBLISH
X-PUBLISHED-TTL:P3D
REFRESH-INTERVAL:P3D
CALSCALE:GREGORIAN
BEGIN:VEVENT
DTSTART;VALUE=DATE:20200530
DTEND;VALUE=DATE:20200531
TRANSP:TRANSPARENT
X-MICROSOFT-CDO-ALLDAYEVENT:TRUE
SUMMARY:Launching Asian America's Small Businesses by ACE NextGen
DESCRIPTION:RE:Launching is an all day\, free FB Live event of AAPI small businesses with presentations\, fireside chats\, and live performances.\n\n\n\nAbout this Event\n\n\n\nDue to Covid-19\, unemployment in the USA is expected to hit 30%.\n\n\n\nSmall businesses (responsible for up to 64% of new jobs since the 1990s) will be essential to job creation. Asian-American and Pacific Islander small businesses\, representing 27% of small business revenue in the USA\, will play a key role in rebuilding the economy.\n\n\n\nBut these same AAPI small businesses\, already hard-hit by the pandemic and economic downturn\, continue to face a wave of violence and racism as they are unfairly blamed for the pandemic.\n\n\n\nACE NextGen is hosting an all-day membership drive to support and promote Asian SMBs looking to relaunch in 2020. AAPI community thought leaders\, politicians\, entertainers and small business leaders will share how they are handling this crisis and how they have previously overcome tough times.\n\n\n\nACE NextGen is the millennial National Chamber of Commerce and Entrepreneurship\, a non-profit dedicated to supporting AAPI through trainings\, webinars\, peer to peer CEO groups\, conferences\, retreats and advocacy on behalf of AAPI small business.\n\n\n\nFull Schedule and Raffle Prizes: https://bit.ly/relaunchingaapi\n\n\n\nPresentations\, Speakers/Moderators and Performances by:\n\n	Fiona Ma\, Treasurer State of California\n	Patrick Lee\, Founder of Rotten Tomatoes\n	Andrew Chau\, Founder\, Boba Guys\n	Bing Chen\, Founder\, Gold House\n	jason chu\, rapper\, NITEMRKT\n	Lavanya Jawaharlal\, Founder\, STEM Center USA\n	Kevin Felix Chan\, Founder\, Model United Nations Institute By Best Delegate\n	Benny Luo\, Founder\, NextShark\n	Ha Nguyen\, Founder\, 7 Leaves Cafe\n	Ian So\, Founder The Chicken & Rice Guys\n	Angie Chang\, Owner\, Kcal Insurance and more!
X-ALT-DESC;FMTTYPE=text/html:RE:<a href="https://www.eventbrite.com/e/relaunching-asian-americas-small-businesses-tickets-104434269712?fbclid=IwAR3TZOqZ1ib2Q5kKPXpF5aVaJkA3OAH1UcVAeM8RpTp8yt4lQMHaejgA9jA" target="_blank">Launching is an all day\, free FB Live event of AAPI small businesses</a> with presentations\, fireside chats\, and live performances.<br />\n<br />\nAbout this Event<br />\n<br />\nDue to Covid-19\, unemployment in the USA is expected to hit 30%.<br />\n<br />\nSmall businesses (responsible for up to 64% of new jobs since the 1990s) will be essential to job creation. Asian-American and Pacific Islander small businesses\, representing 27% of small business revenue in the USA\, will play a key role in rebuilding the economy.<br />\n<br />\nBut these same AAPI small businesses\, already hard-hit by the pandemic and economic downturn\, continue to face a wave of violence and racism as they are unfairly blamed for the pandemic.<br />\n<br />\n<a href="https://www.acenextgen.org/" target="_blank">ACE NextGen </a>is hosting an all-day membership drive to support and promote Asian SMBs looking to relaunch in 2020. AAPI community thought leaders\, politicians\, entertainers and small business leaders will share how they are handling this crisis and how they have previously overcome tough times.<br />\n<br />\n<a href="https://www.acenextgen.org/" target="_blank">ACE NextGen</a> is the millennial National Chamber of Commerce and Entrepreneurship\, a non-profit dedicated to supporting AAPI through trainings\, webinars\, peer to peer CEO groups\, conferences\, retreats and advocacy on behalf of AAPI small business.<br />\n<br />\nFull Schedule and Raffle Prizes: <a href="https://bit.ly/relaunchingaapi" target="_blank">https://bit.ly/relaunchingaapi</a><br />\n<br />\nPresentations\, Speakers/Moderators and Performances by:\n<ul>\n	<li>Fiona Ma\, Treasurer State of California</li>\n	<li>Patrick Lee\, Founder of Rotten Tomatoes</li>\n	<li>Andrew Chau\, Founder\, Boba Guys</li>\n	<li>Bing Chen\, Founder\, Gold House</li>\n	<li>jason chu\, rapper\, NITEMRKT</li>\n	<li>Lavanya Jawaharlal\, Founder\, STEM Center USA</li>\n	<li>Kevin Felix Chan\, Founder\, Model United Nations Institute By Best Delegate</li>\n	<li>Benny Luo\, Founder\, NextShark</li>\n	<li>Ha Nguyen\, Founder\, 7 Leaves Cafe</li>\n	<li>Ian So\, Founder The Chicken &amp\; Rice Guys</li>\n	<li>Angie Chang\, Owner\, Kcal Insurance and more!</li>\n</ul>\n
LOCATION:Facebook Livestream by ACE NextGen
UID:e.3222.1786
SEQUENCE:3
DTSTAMP:20260422T170952Z
URL:https://www.apacc.net/events/details/launching-asian-america-s-small-businesses-by-ace-nextgen-1786
END:VEVENT

END:VCALENDAR
