BEGIN:VCALENDAR
VERSION:2.0
PRODID:-//ChamberMaster//Event Calendar 2.0//EN
METHOD:PUBLISH
X-PUBLISHED-TTL:P3D
REFRESH-INTERVAL:P3D
CALSCALE:GREGORIAN
BEGIN:VEVENT
DTSTART:20200427T150000Z
DTEND:20200427T160000Z
X-MICROSOFT-CDO-ALLDAYEVENT:FALSE
SUMMARY:Labor and Employment Update: Returning Employees to Work After COVID 19
DESCRIPTION:Join Warner attorneys Ed Bardelli\, Amanda Fielder and Steve Palazzolo in a labor and employment update addressing employees returning to work after COVID 19. In this webinar\, we will cover:\n\n\n\na) how to communicate with employees when it is safe to return to work\;\n\nb) how to decide who to bring back\;\n\nc) how to decide when to bring people back\; and\n\nd) how to plan for employees who refuse to return to work.\n\n \n\nEdward J. Bardelli\n\nPartner\n\n616.752.2165\n\nEmail\n\n \n\nAmanda M. Fielder\n\nPartner\n\n616.752.2404\n\nEmail\n\n \n\nSteven A. Palazzolo\n\nSenior Counsel\n\n247.784.5091 (Southfield)\n\n616.752.2191 (Grand Rapids)\n\nEmail
X-ALT-DESC;FMTTYPE=text/html:<div>Join Warner attorneys Ed Bardelli\, Amanda Fielder and Steve Palazzolo in a labor and employment update addressing employees returning to work after COVID 19. In this webinar\, we will cover:<br />\n<br />\na) how to communicate with employees when it is safe to return to work\;<br />\nb) how to decide who to bring back\;<br />\nc) how to decide when to bring people back\; and<br />\nd) how to plan for employees who refuse to return to work.</div>\n\n<div>&nbsp\;</div>\n\n<div>Edward J. Bardelli</div>\n\n<div>Partner</div>\n\n<div>616.752.2165</div>\n\n<div><a href="mailto:ebardelli@wnj.com" target="_blank">Email</a></div>\n\n<div>&nbsp\;</div>\n\n<div>Amanda M. Fielder</div>\n\n<div>Partner</div>\n\n<div>616.752.2404</div>\n\n<div><a href="mailto:afielder@wnj.com" target="_blank">Email</a></div>\n\n<div>&nbsp\;</div>\n\n<div>Steven A. Palazzolo</div>\n\n<div>Senior Counsel</div>\n\n<div>247.784.5091 (Southfield)</div>\n\n<div>616.752.2191 (Grand Rapids)</div>\n\n<div><a href="mailto:spalazzolo@wnj.com" target="_blank">Email</a></div>\n
LOCATION:Webinar by Warner\, Norcross + Judd LLP
UID:e.3222.1682
SEQUENCE:3
DTSTAMP:20260424T100022Z
URL:https://www.apacc.net/events/details/labor-and-employment-update-returning-employees-to-work-after-covid-19-1682
END:VEVENT

END:VCALENDAR
