BEGIN:VCALENDAR
VERSION:2.0
PRODID:-//ChamberMaster//Event Calendar 2.0//EN
METHOD:PUBLISH
X-PUBLISHED-TTL:P3D
REFRESH-INTERVAL:P3D
CALSCALE:GREGORIAN
BEGIN:VEVENT
DTSTART:20200429T150000Z
DTEND:20200429T160000Z
X-MICROSOFT-CDO-ALLDAYEVENT:FALSE
SUMMARY:Labor and Employment Update: Preparing the Facility for Operations After COVID 19
DESCRIPTION:Join Warner attorneys Andrea Bernard\, Karen VanderWerff and DeAndre' Harris in a labor and employment update addressing internal operations after COVID 19. In this webinar\, we will discuss:\n\n\n\na) the protocols to put in place for operations to resume\;\n\nb) PPE needed for employees who return to work\;\n\nc) whether or not a preparedness plan is necessary\;\n\nd) cleaning and maintenance requirements\;\n\ne) how to enforce social distancing among employees\; and\n\nf) proper procedures to follow if an employee tests positive or has symptoms after they return to work.\n\n \n\nAndrea J. Bernard\n\nPartner\n\n616.752.2199\n\nEmail\n\n \n\nKaren J. VanderWerff\n\nPartner\n\n616.752.2183\n\nEmail\n\n \n\nDeAndre' Harris\n\nAssociate\n\n616.752.2331\n\nEmail
X-ALT-DESC;FMTTYPE=text/html:<div>Join Warner attorneys Andrea Bernard\, Karen VanderWerff and DeAndre&rsquo\; Harris in a labor and employment update addressing internal operations after COVID 19. In this webinar\, we will discuss:<br />\n<br />\na) the protocols to put in place for operations to resume\;<br />\nb) PPE needed for employees who return to work\;<br />\nc) whether or not a preparedness plan is necessary\;<br />\nd) cleaning and maintenance requirements\;<br />\ne) how to enforce social distancing among employees\; and<br />\nf) proper procedures to follow if an employee tests positive or has symptoms after they return to work.</div>\n\n<div>&nbsp\;</div>\n\n<div>Andrea J. Bernard</div>\n\n<div>Partner</div>\n\n<div>616.752.2199</div>\n\n<div><a href="mailto:abernard@wnj.com" target="_blank">Email</a></div>\n\n<div>&nbsp\;</div>\n\n<div>Karen J. VanderWerff</div>\n\n<div>Partner</div>\n\n<div>616.752.2183</div>\n\n<div><a href="mailto:kvanderwerff@wnj.com" target="_blank">Email</a></div>\n\n<div>&nbsp\;</div>\n\n<div>DeAndre&#39\; Harris</div>\n\n<div>Associate</div>\n\n<div>616.752.2331</div>\n\n<div><a href="mailto:dharris@wnj.com" target="_blank">Email</a></div>\n
LOCATION:Webinar by Warner\, Norcross + Judd
UID:e.3222.1690
SEQUENCE:3
DTSTAMP:20260424T094146Z
URL:https://www.apacc.net/events/details/labor-and-employment-update-preparing-the-facility-for-operations-after-covid-19-1690
END:VEVENT

END:VCALENDAR
