BEGIN:VCALENDAR
VERSION:2.0
PRODID:-//ChamberMaster//Event Calendar 2.0//EN
METHOD:PUBLISH
X-PUBLISHED-TTL:P3D
REFRESH-INTERVAL:P3D
CALSCALE:GREGORIAN
BEGIN:VEVENT
DTSTART:20200408T180000Z
DTEND:20200408T193000Z
X-MICROSOFT-CDO-ALLDAYEVENT:FALSE
SUMMARY:(Korean Language) SBA's Economic Injury Disaster Loan (EIDL) and Coronavirus Aid\, Relief & Economic Security Act (CARES ACT) for Small Businesses
DESCRIPTION:You are invited to join the webinar to learn about the SBA's Economic Injury Disaster Loan (EIDL) program and Coronavirus Aid\, Relief &\n\nEconomic Security Act (CARES ACT) to help small business impacted by coronavirus.\n\n \n\nSpeaker:\n\nAmy Kim\n\nArea Director\n\nOffice of Government Contracting\n\nWashington Metropolitan Area District Office (WMADO)\n\nU.S. Small Business Administration\n\n \n\n \n\nThis event will be conducted in Korean.\n\n \n\nThe SBA's Economic Injury Disaster Loan (EIDL) program provides small businesses with working capital loans of up to $2 million that can provide vital economic support to small businesses to help overcome the temporary loss of revenue they are experiencing.\n\n \n\nThe programs and initiatives in the Coronavirus Aid\, Relief\, and Economic Security (CARES) Act that was just passed by Congress are intended to assist business owners with whatever needs they have right now. When implemented\, there will be many new resources available for small businesses\, as well as certain nonprofits and other employers.\n\n \n\n If your small business has been impacted by coronavirus\, join this free online webinar to learn more about these programs including:\n\n	Eligibility requirements\n	Use of proceeds\n	Terms\n	Filing requirements\n\n \n\nAfter Registration\, you will receive log on instructions in email.\n\nEmail AACC with questions at event@asian-americanchamber.org
X-ALT-DESC;FMTTYPE=text/html:You are invited to join the webinar to learn about the SBA&#39\;s Economic Injury Disaster Loan (EIDL) program and Coronavirus Aid\, Relief &amp\;<br />\nEconomic Security Act (CARES ACT) to help small business impacted by coronavirus.<br />\n&nbsp\;<br />\nSpeaker:<br />\nAmy Kim<br />\nArea Director<br />\nOffice of Government Contracting<br />\nWashington Metropolitan Area District Office (WMADO)<br />\nU.S. Small Business Administration<br />\n&nbsp\;<br />\n&nbsp\;<br />\nThis event will be conducted in Korean.<br />\n&nbsp\;<br />\nThe SBA&rsquo\;s Economic Injury Disaster Loan (EIDL) program provides small businesses with working capital loans of up to $2 million that can provide vital economic support to small businesses to help overcome the temporary loss of revenue they are experiencing.<br />\n&nbsp\;<br />\nThe programs and initiatives in the Coronavirus Aid\, Relief\, and Economic Security (CARES) Act that was just passed by Congress are intended to assist business owners with whatever needs they have right now. When implemented\, there will be many new resources available for small businesses\, as well as certain nonprofits and other employers.<br />\n&nbsp\;<br />\n&nbsp\;If your small business has been impacted by coronavirus\, join this free online webinar to learn more about these programs including:\n<ul>\n	<li>Eligibility requirements</li>\n	<li>Use of proceeds</li>\n	<li>Terms</li>\n	<li>Filing requirements</li>\n</ul>\n&nbsp\;<br />\nAfter Registration\, you will receive log on instructions in email.<br />\nEmail AACC with questions at <a href="mailto:event@asian-americanchamber.org" target="_blank">event@asian-americanchamber.org</a>
LOCATION:Webinar To register\, please click here.
UID:e.3222.1662
SEQUENCE:3
DTSTAMP:20260422T112957Z
URL:https://www.apacc.net/events/details/korean-language-sba-s-economic-injury-disaster-loan-eidl-and-coronavirus-aid-relief-economic-security-act-cares-act-for-small-businesses-1662
END:VEVENT

END:VCALENDAR
