BEGIN:VCALENDAR
VERSION:2.0
PRODID:-//ChamberMaster//Event Calendar 2.0//EN
METHOD:PUBLISH
X-PUBLISHED-TTL:P3D
REFRESH-INTERVAL:P3D
CALSCALE:GREGORIAN
BEGIN:VEVENT
DTSTART:20230211T140000Z
DTEND:20230211T153000Z
X-MICROSOFT-CDO-ALLDAYEVENT:FALSE
SUMMARY:Korean Language Classes - Winter 2023
DESCRIPTION:Korean Connection has been hosting language classes since 2016!\n\nWinter Session is Open for Registration!\n\n\n\nRegistration Deadline: January 7\, 2023\n\n\n\nKorean Connection is a non-profit organization in Grand Rapids formed by people who share connections with South Korea through family\, friendships\, business\, culture\, curiosity\, or history.\n\n\n\nWe support the exchange of ideas\, understanding\, appreciation\, and support for the close historical and economic ties between the people of Korea\, the U.S. and our own state of Michigan.
X-ALT-DESC;FMTTYPE=text/html:<br />\nKorean Connection has been hosting language classes since 2016!<br />\nWinter Session is Open for Registration!<br />\n<br />\n<strong>Registration Deadline: January 7\, 2023</strong><br />\n<br />\nKorean Connection is a non-profit organization in Grand Rapids formed by people who share connections with South Korea through family\, friendships\, business\, culture\, curiosity\, or history.<br />\n<br />\nWe support the exchange of ideas\, understanding\, appreciation\, and support for the close historical and economic ties between the people of Korea\, the U.S. and our own state of Michigan.
LOCATION:Virtual
UID:e.3222.2657
SEQUENCE:3
DTSTAMP:20260424T153404Z
URL:https://www.apacc.net/events/details/korean-language-classes-winter-2023-02-11-2023-2657
END:VEVENT

END:VCALENDAR
