BEGIN:VCALENDAR
VERSION:2.0
PRODID:-//ChamberMaster//Event Calendar 2.0//EN
METHOD:PUBLISH
X-PUBLISHED-TTL:P3D
REFRESH-INTERVAL:P3D
CALSCALE:GREGORIAN
BEGIN:VEVENT
DTSTART:20200429T220000Z
DTEND:20200429T230000Z
X-MICROSOFT-CDO-ALLDAYEVENT:FALSE
SUMMARY:Know Your Rights - Webinar on Hate Crimes and Discrimination
DESCRIPTION:Please join Asian American Community Virtual Townhall Know Your Rights - Hate Crimes and Discrimination.\n\n\n\nSpeakers:\n\n\n\nSunita Doddamani\n\nAssistant Attorney General\, Hate Crimes Unit\n\n\n\nAnthony Lewis\n\nMichigan Department of Civil Rights\n\n\n\nCo-Hosts:\n\nSenator Stephanie Chang & Representative Padma Kuppa and more...
X-ALT-DESC;FMTTYPE=text/html:Please join Asian American Community Virtual Townhall Know Your Rights - Hate Crimes and Discrimination.<br />\n<br />\n<strong>Speakers</strong>:<br />\n<br />\n<strong>Sunita Doddamani</strong><br />\nAssistant Attorney General\, Hate Crimes Unit<br />\n<br />\n<strong>Anthony Lewis</strong><br />\nMichigan Department of Civil Rights<br />\n<br />\n<strong>Co-Hosts</strong>:<br />\n<strong>Senator Stephanie Chang</strong> &amp\; <strong>Representative Padma Kuppa</strong> and more...
LOCATION:Webinar
UID:e.3222.1697
SEQUENCE:3
DTSTAMP:20260422T112945Z
URL:https://www.apacc.net/events/details/know-your-rights-webinar-on-hate-crimes-and-discrimination-1697
END:VEVENT

END:VCALENDAR
