BEGIN:VCALENDAR
VERSION:2.0
PRODID:-//ChamberMaster//Event Calendar 2.0//EN
METHOD:PUBLISH
X-PUBLISHED-TTL:P3D
REFRESH-INTERVAL:P3D
CALSCALE:GREGORIAN
BEGIN:VEVENT
DTSTART:20200603T163000Z
DTEND:20200603T173000Z
X-MICROSOFT-CDO-ALLDAYEVENT:FALSE
SUMMARY:JPMCI Data Dialogue:How COVID-19 Could Widen Racial Gaps
DESCRIPTION:Millions of families have been impacted by COVID-19\, and initial data show health and economic impacts have been unevenly distributed across demographic groups. JPMC Institute research has documented large racial gaps in financial outcomes and shown Black and Hispanic families have lower incomes and fewer liquid assets relative to White families\, and they will likely bear the brunt of the economic crisis. Understanding the disproportionate economic impacts of the pandemic will be key to targeting aid and promoting inclusive recovery. \n\n \n\nJoin us for a virtual panel discussion with:\n\n\n\nSpeakers\n\nMarc Morial\, President of the National Urban League\n\nMichael McAfee\, President & CEO of PolicyLink\n\nJessica Fulton\, Vice President at the Joint Center for Political and Economic Studies\n\n\n\nModerated by \n\nFiona Greig\, Director of Consumer Research at the JPMC Institute. \n\n\n\nPanelists will discuss the economic impact of COVID-19 on minority communities\, targeted financial support for families\, and what can be done to promote inclusive recovery.
X-ALT-DESC;FMTTYPE=text/html:Millions of families have been impacted by <strong>COVID-19</strong>\, and initial data show health and economic impacts have been unevenly distributed across demographic groups. <strong>JPMC Institute research</strong> has documented large racial gaps in financial outcomes and shown Black and Hispanic families have lower incomes and fewer liquid assets relative to White families\, and they will likely bear the brunt of the economic crisis. Understanding the disproportionate economic impacts of the pandemic will be key to targeting aid and promoting inclusive recovery.&nbsp\;<br />\n&nbsp\;<br />\nJoin us for a virtual panel discussion with:<br />\n<br />\n<strong>Speakers</strong><br />\n<strong>Marc Morial</strong>\, President of the National Urban League<br />\n<strong>Michael McAfee</strong>\, President &amp\; CEO of PolicyLink<br />\n<strong>Jessica Fulton</strong>\, Vice President at the Joint Center for Political and Economic Studies<br />\n<br />\n<strong>Moderated by</strong>&nbsp\;<br />\n<strong>Fiona Greig</strong>\, Director of Consumer Research at the JPMC Institute.&nbsp\;<br />\n<br />\nPanelists will discuss the economic impact of COVID-19 on minority communities\, targeted financial support for families\, and what can be done to promote inclusive recovery.
LOCATION:Virtual event by JPMorgan Chase & Co. Institute
UID:e.3222.1793
SEQUENCE:3
DTSTAMP:20260422T101311Z
URL:https://www.apacc.net/events/details/jpmci-data-dialogue-how-covid-19-could-widen-racial-gaps-1793
END:VEVENT

END:VCALENDAR
