BEGIN:VCALENDAR
VERSION:2.0
PRODID:-//ChamberMaster//Event Calendar 2.0//EN
METHOD:PUBLISH
X-PUBLISHED-TTL:P3D
REFRESH-INTERVAL:P3D
CALSCALE:GREGORIAN
BEGIN:VEVENT
DTSTART:20180925T130000Z
DTEND:20180925T150000Z
X-MICROSOFT-CDO-ALLDAYEVENT:FALSE
SUMMARY:"It's Not Political Correctness\," a discussion on Implicit Bias and Cultural Competence in Today's Marketplace
DESCRIPTION:Bromberg & Associates\, LLC\, a full-spectrum Language Solutions Company (LSC) based in Hamtramck\, Michigan\, is pleased to announce the upcoming event\, "It's Not Political Correctness\," a discussion on Implicit Bias and Cultural Competence in Today's Marketplace to be held on Tuesday\, September 25th at the Macomb County Family Resource Center.\n\n\n\nThis discussion will provide valuable insight into understanding how to interact with people of various cultures and backgrounds in the growing global marketplace. Understanding how to best interact with a myriad of cultures and languages can mean the difference between closing a contract and losing a potential client or the difference between having positive interactions with your existing customers or leaving them dissatisfied.\n\n\n\nWith the increase of litigation for cases related to cultural competence\, inclusion\, and implicit bias\; while also factoring in the subsequent increase in legal regulations for organizations\, being aware and prepared for these issues is more important now than ever before.\n\n\n\nOur interactive 2-hour workshop will help you to question and bring to life your implicit biases\, consider your way of thinking\, and to look at cultural competency in a different way. We will also explore some landmark court decisions which may impact your organization's liability to be more culturally competent.\n\n\n\nOur Speaker: Bruce L. Adelson\, ESQ\, CEO of Federal Compliance Consulting LLC.\n\n\n\nMr. Adelson is nationally recognized for his expertise in federal law enforcement\, civil rights\, diversity\, cultural awareness\, language and disability access\, and allegations of discrimination. He teaches implicit bias and cultural awareness at Georgetown University School of Medicine and most recently taught at Cornell University.\n\n\n\nAdditionally\, Mr. Adelson is recognized as the ADA expert in several federal lawsuits alleging disability discrimination.
X-ALT-DESC;FMTTYPE=text/html:Bromberg &amp\; Associates\, LLC\, a full-spectrum Language Solutions Company (LSC) based in Hamtramck\, Michigan\, is pleased to announce the upcoming event\, &ldquo\;It&rsquo\;s Not Political Correctness\,&rdquo\; a discussion on Implicit Bias and Cultural Competence in Today&rsquo\;s Marketplace to be held on Tuesday\, September 25th at the Macomb County Family Resource Center.<br />\n<br />\nThis discussion will provide valuable insight into understanding how to interact with people of various cultures and backgrounds in the growing global marketplace. Understanding how to best interact with a myriad of cultures and languages can mean the difference between closing a contract and losing a potential client or the difference between having positive interactions with your existing customers or leaving them dissatisfied.<br />\n<br />\nWith the increase of litigation for cases related to cultural competence\, inclusion\, and implicit bias\; while also factoring in the subsequent increase in legal regulations for organizations\, being aware and prepared for these issues is more important now than ever before.<br />\n<br />\nOur interactive 2-hour workshop will help you to question and bring to life your implicit biases\, consider your way of thinking\, and to look at cultural competency in a different way. We will also explore some landmark court decisions which may impact your organization&rsquo\;s liability to be more culturally competent.<br />\n<br />\nOur Speaker: Bruce L. Adelson\, ESQ\, CEO of Federal Compliance Consulting LLC.<br />\n<br />\nMr. Adelson is nationally recognized for his expertise in federal law enforcement\, civil rights\, diversity\, cultural awareness\, language and disability access\, and allegations of discrimination. He teaches implicit bias and cultural awareness at Georgetown University School of Medicine and most recently taught at Cornell University.<br />\n<br />\nAdditionally\, Mr. Adelson is recognized as the ADA expert in several federal lawsuits alleging disability discrimination.
LOCATION:Macomb County Family Resource Center 196 N Rose St Mount Clemens\, MI 48043
UID:e.3222.168
SEQUENCE:3
DTSTAMP:20260421T174834Z
URL:https://www.apacc.net/events/details/it-s-not-political-correctness-a-discussion-on-implicit-bias-and-cultural-competence-in-today-s-marketplace-168
END:VEVENT

END:VCALENDAR
