BEGIN:VCALENDAR
VERSION:2.0
PRODID:-//ChamberMaster//Event Calendar 2.0//EN
METHOD:PUBLISH
X-PUBLISHED-TTL:P3D
REFRESH-INTERVAL:P3D
CALSCALE:GREGORIAN
BEGIN:VEVENT
DTSTART:20210308T170000Z
DTEND:20210308T180000Z
X-MICROSOFT-CDO-ALLDAYEVENT:FALSE
SUMMARY:International Women’s Day: Honoring Women Exporters
DESCRIPTION:Join us on International Women's Day\, March 8\, for a virtual panel discussion with five women executives who guided their firms to achieve international success. Hear from these five successful U.S. businesses women who have worked with the U.S. Commercial Service to successfully further their exporting goals.\n\n\n\nGet inspired! Hear how these women capitalized on global opportunities! Learn how you can get the resources\, tools\, and personal connections you need. We challenge you to follow their lead and embrace exporting as a business growth strategy.\n\n\n\n\n\nYou'll gain inspiration and tips for capitalizing on global opportunities from:\n\n	Susan Jaime\, CEO\, Ferra Coffee\n	Pamela Nelson\, Founder and CEO\, Bracane Company\, Inc.\n	Grace Preston\, Director of Global Sales\, Optim LLC\n	Sherry Rupert\, CEO\, American Indian Alaska Native Tourism Association\n	Jean Seo\, Founder and CEO\, Evolue Skincare Inc.\n\n\n\n\n\nAbout Women's Global Empowerment:\n\nThe Women's Global Empowerment program is the U.S. Commercial Service's premiere resource for women entrepreneurs who wish to boldly grow their business into new markets! This dynamic platform provides a unique opportunity to gain the necessary skills to build an export strategy and develop business connections.\n\n\n\nTo register\, please click here.
X-ALT-DESC;FMTTYPE=text/html:<br />\n<br />\nJoin us on International Women&#39\;s Day\, March 8\, for a virtual panel discussion with five women executives who guided their firms to achieve international success. Hear from these five successful U.S. businesses women who have worked with the U.S. Commercial Service to successfully further their exporting goals.<br />\n<br />\nGet inspired! Hear how these women capitalized on global opportunities! Learn how you can get the resources\, tools\, and personal connections you need. We challenge you to follow their lead and embrace exporting as a business growth strategy.<br />\n<br />\n<br />\nYou&#39\;ll gain inspiration and tips for capitalizing on global opportunities from:\n<ul>\n	<li>Susan Jaime\, CEO\, Ferra Coffee</li>\n	<li>Pamela Nelson\, Founder and CEO\, Bracane Company\, Inc.</li>\n	<li>Grace Preston\, Director of Global Sales\, Optim LLC</li>\n	<li>Sherry Rupert\, CEO\, American Indian Alaska Native Tourism Association</li>\n	<li>Jean Seo\, Founder and CEO\, Evolue Skincare Inc.</li>\n</ul>\n<br />\n<br />\n<strong>About Women&#39\;s Global Empowerment:</strong><br />\nThe&nbsp\;Women&#39\;s Global Empowerment program is the U.S. Commercial Service&#39\;s premiere resource for women entrepreneurs who wish to boldly grow their business into new markets! This dynamic platform provides a unique opportunity to gain the necessary skills to build an export strategy and develop business connections.<br />\n<br />\nTo register\, please click <a href="https://www.trade.gov/womensglobaltradeempowermentforum?utm_source=govdelivery&amp\;utm_medium=email&amp\;utm_campaign=2021-women%27s-history&amp\;utm_content=honoring-women-exporters" target="_blank">here</a>.
LOCATION:Virtual
UID:e.3222.2075
SEQUENCE:3
DTSTAMP:20260423T222147Z
URL:https://www.apacc.net/events/details/international-women-s-day-honoring-women-exporters-2075
END:VEVENT

END:VCALENDAR
