BEGIN:VCALENDAR
VERSION:2.0
PRODID:-//ChamberMaster//Event Calendar 2.0//EN
METHOD:PUBLISH
X-PUBLISHED-TTL:P3D
REFRESH-INTERVAL:P3D
CALSCALE:GREGORIAN
BEGIN:VEVENT
DTSTART:20211118T140000Z
DTEND:20211118T153000Z
X-MICROSOFT-CDO-ALLDAYEVENT:FALSE
SUMMARY:Insights and Information: Learn How to Do Business with Group Purchasing Organizations (GPO) and Distributors AT Henry Ford Health System (HFHS)
DESCRIPTION:Blue Cross Blue Shield of Michigan and Henry Ford Health Systems invite diverse suppliers interested in learning more about doing business with healthcare and health insurance companies to attend our collaborative "Insights and Information" session. Each session will provide insights into the healthcare industry\, information for business growth and networking opportunities.\n\n\n\nJoin us on September 16\, 2021 at 9A-10:30am for Information and Insights on doing business with group purchasing organizations (GPO) and distributors.
X-ALT-DESC;FMTTYPE=text/html:<br />\n<br />\nBlue Cross Blue Shield of Michigan and Henry Ford Health Systems invite diverse suppliers interested in learning more about doing business with healthcare and health insurance companies to attend our collaborative &ldquo\;Insights and Information&rdquo\; session. Each session will provide insights into the healthcare industry\, information for business growth and networking opportunities.<br />\n<br />\nJoin us on September 16\, 2021 at 9A-10:30am for Information and Insights on doing business with group purchasing organizations (GPO) and distributors.<br />\n<br />\n&nbsp\;
LOCATION:Virtual.
UID:e.3222.2230
SEQUENCE:3
DTSTAMP:20260422T203820Z
URL:https://www.apacc.net/events/details/insights-and-information-learn-how-to-do-business-with-group-purchasing-organizations-gpo-and-distributors-at-henry-ford-health-system-hfhs-2230
END:VEVENT

END:VCALENDAR
